BEGIN:VCALENDAR
VERSION:2.0
PRODID:-//Fanny Bay Community Association - ECPv6.15.20//NONSGML v1.0//EN
CALSCALE:GREGORIAN
METHOD:PUBLISH
X-WR-CALNAME:Fanny Bay Community Association
X-ORIGINAL-URL:https://fannybaycommunity.com
X-WR-CALDESC:Events for Fanny Bay Community Association
REFRESH-INTERVAL;VALUE=DURATION:PT1H
X-Robots-Tag:noindex
X-PUBLISHED-TTL:PT1H
BEGIN:VTIMEZONE
TZID:America/Vancouver
BEGIN:DAYLIGHT
TZOFFSETFROM:-0800
TZOFFSETTO:-0700
TZNAME:PDT
DTSTART:20260308T100000
END:DAYLIGHT
BEGIN:STANDARD
TZOFFSETFROM:-0700
TZOFFSETTO:-0800
TZNAME:PST
DTSTART:20261101T090000
END:STANDARD
BEGIN:DAYLIGHT
TZOFFSETFROM:-0800
TZOFFSETTO:-0700
TZNAME:PDT
DTSTART:20270314T100000
END:DAYLIGHT
BEGIN:STANDARD
TZOFFSETFROM:-0700
TZOFFSETTO:-0800
TZNAME:PST
DTSTART:20271107T090000
END:STANDARD
BEGIN:DAYLIGHT
TZOFFSETFROM:-0800
TZOFFSETTO:-0700
TZNAME:PDT
DTSTART:20280312T100000
END:DAYLIGHT
BEGIN:STANDARD
TZOFFSETFROM:-0700
TZOFFSETTO:-0800
TZNAME:PST
DTSTART:20281105T090000
END:STANDARD
END:VTIMEZONE
BEGIN:VEVENT
DTSTART;TZID=America/Vancouver:20270201T120000
DTEND;TZID=America/Vancouver:20270201T170000
DTSTAMP:20260419T193712
CREATED:20260409T155825Z
LAST-MODIFIED:20260409T160241Z
UID:30020912-1801483200-1801501200@fannybaycommunity.com
SUMMARY:Supper Social Prep
DESCRIPTION:
URL:https://fannybaycommunity.com/event/supper-social-prep/2027-02-01/
LOCATION:Kitchen\, Canada
CATEGORIES:Private Events
END:VEVENT
BEGIN:VEVENT
DTSTART;TZID=America/Vancouver:20270202T120000
DTEND;TZID=America/Vancouver:20270202T170000
DTSTAMP:20260419T193712
CREATED:20260409T155825Z
LAST-MODIFIED:20260409T160241Z
UID:30020913-1801569600-1801587600@fannybaycommunity.com
SUMMARY:Supper Social Prep
DESCRIPTION:
URL:https://fannybaycommunity.com/event/supper-social-prep/2027-02-02/
LOCATION:Kitchen\, Canada
CATEGORIES:Private Events
END:VEVENT
BEGIN:VEVENT
DTSTART;TZID=America/Vancouver:20270203T153000
DTEND;TZID=America/Vancouver:20270203T200000
DTSTAMP:20260419T193712
CREATED:20260409T155825Z
LAST-MODIFIED:20260409T160241Z
UID:30020914-1801668600-1801684800@fannybaycommunity.com
SUMMARY:Supper Social Prep
DESCRIPTION:
URL:https://fannybaycommunity.com/event/supper-social-prep/2027-02-03/
LOCATION:Kitchen\, Canada
CATEGORIES:Private Events
END:VEVENT
BEGIN:VEVENT
DTSTART;TZID=America/Vancouver:20270203T170000
DTEND;TZID=America/Vancouver:20270203T190000
DTSTAMP:20260419T193712
CREATED:20260409T003746Z
LAST-MODIFIED:20260409T003746Z
UID:30020883-1801674000-1801681200@fannybaycommunity.com
SUMMARY:February - Supper Social
DESCRIPTION:Join us for a Supper Social on the first Wednesday of every month.
URL:https://fannybaycommunity.com/event/february-supper-social/
LOCATION:FBCA Community Centre
CATEGORIES:Community Events
END:VEVENT
BEGIN:VEVENT
DTSTART;TZID=America/Vancouver:20270227T190000
DTEND;TZID=America/Vancouver:20270227T220000
DTSTAMP:20260419T193712
CREATED:20260103T031804Z
LAST-MODIFIED:20260125T012249Z
UID:30015569-1803754800-1803765600@fannybaycommunity.com
SUMMARY:FBCA Concert Series: Zodiac Trio
DESCRIPTION:
URL:https://fannybaycommunity.com/event/fbca-concert-series-save-the-date-2/
LOCATION:FBCA Community Centre
CATEGORIES:Concerts
ORGANIZER;CN="FBCA":MAILTO:pickleball@fannybaycommunity.com
END:VEVENT
END:VCALENDAR