BEGIN:VCALENDAR
VERSION:2.0
PRODID:-//Fanny Bay Community Association - ECPv6.15.20//NONSGML v1.0//EN
CALSCALE:GREGORIAN
METHOD:PUBLISH
X-WR-CALNAME:Fanny Bay Community Association
X-ORIGINAL-URL:https://fannybaycommunity.com
X-WR-CALDESC:Events for Fanny Bay Community Association
REFRESH-INTERVAL;VALUE=DURATION:PT1H
X-Robots-Tag:noindex
X-PUBLISHED-TTL:PT1H
BEGIN:VTIMEZONE
TZID:America/Vancouver
BEGIN:DAYLIGHT
TZOFFSETFROM:-0800
TZOFFSETTO:-0700
TZNAME:PDT
DTSTART:20250309T100000
END:DAYLIGHT
BEGIN:STANDARD
TZOFFSETFROM:-0700
TZOFFSETTO:-0800
TZNAME:PST
DTSTART:20251102T090000
END:STANDARD
BEGIN:DAYLIGHT
TZOFFSETFROM:-0800
TZOFFSETTO:-0700
TZNAME:PDT
DTSTART:20260308T100000
END:DAYLIGHT
BEGIN:STANDARD
TZOFFSETFROM:-0700
TZOFFSETTO:-0800
TZNAME:PST
DTSTART:20261101T090000
END:STANDARD
BEGIN:DAYLIGHT
TZOFFSETFROM:-0800
TZOFFSETTO:-0700
TZNAME:PDT
DTSTART:20270314T100000
END:DAYLIGHT
BEGIN:STANDARD
TZOFFSETFROM:-0700
TZOFFSETTO:-0800
TZNAME:PST
DTSTART:20271107T090000
END:STANDARD
END:VTIMEZONE
BEGIN:VEVENT
DTSTART;TZID=America/Vancouver:20261201T093000
DTEND;TZID=America/Vancouver:20261201T103000
DTSTAMP:20260419T135901
CREATED:20251012T052837Z
LAST-MODIFIED:20251116T181857Z
UID:30014582-1796117400-1796121000@fannybaycommunity.com
SUMMARY:Yoga with Annette
DESCRIPTION:
URL:https://fannybaycommunity.com/event/yoga-with-annette/2026-12-01/
LOCATION:Studio
CATEGORIES:Health and Fitness
END:VEVENT
BEGIN:VEVENT
DTSTART;TZID=America/Vancouver:20261201T120000
DTEND;TZID=America/Vancouver:20261201T170000
DTSTAMP:20260419T135901
CREATED:20260409T155825Z
LAST-MODIFIED:20260409T160241Z
UID:30020907-1796126400-1796144400@fannybaycommunity.com
SUMMARY:Supper Social Prep
DESCRIPTION:
URL:https://fannybaycommunity.com/event/supper-social-prep/2026-12-01/
LOCATION:Kitchen\, Canada
CATEGORIES:Private Events
END:VEVENT
BEGIN:VEVENT
DTSTART;TZID=America/Vancouver:20261201T173000
DTEND;TZID=America/Vancouver:20261201T190000
DTSTAMP:20260419T135901
CREATED:20260311T171628Z
LAST-MODIFIED:20260311T171628Z
UID:30015354-1796146200-1796151600@fannybaycommunity.com
SUMMARY:Yoga with Jane
DESCRIPTION:Contact: 250-228-1157
URL:https://fannybaycommunity.com/event/yoga-with-jane-2-2-2/2026-12-01/
LOCATION:Studio
CATEGORIES:Health and Fitness
END:VEVENT
BEGIN:VEVENT
DTSTART;TZID=America/Vancouver:20261202T130000
DTEND;TZID=America/Vancouver:20261202T150000
DTSTAMP:20260419T135901
CREATED:20251004T192110Z
LAST-MODIFIED:20260111T013804Z
UID:30014292-1796216400-1796223600@fannybaycommunity.com
SUMMARY:FBCA Music Club: Acoustic Jam
DESCRIPTION:
URL:https://fannybaycommunity.com/event/fbca-music-club/2026-12-02/
LOCATION:Dining Room
CATEGORIES:Activities
END:VEVENT
BEGIN:VEVENT
DTSTART;TZID=America/Vancouver:20261202T153000
DTEND;TZID=America/Vancouver:20261202T200000
DTSTAMP:20260419T135901
CREATED:20260409T155825Z
LAST-MODIFIED:20260409T160241Z
UID:30020918-1796225400-1796241600@fannybaycommunity.com
SUMMARY:Supper Social Prep
DESCRIPTION:
URL:https://fannybaycommunity.com/event/supper-social-prep/2026-12-02/
LOCATION:Kitchen\, Canada
CATEGORIES:Private Events
END:VEVENT
BEGIN:VEVENT
DTSTART;TZID=America/Vancouver:20261202T170000
DTEND;TZID=America/Vancouver:20261202T190000
DTSTAMP:20260419T135901
CREATED:20260409T003606Z
LAST-MODIFIED:20260409T003606Z
UID:30020881-1796230800-1796238000@fannybaycommunity.com
SUMMARY:December - Supper Social
DESCRIPTION:Join us for a Supper Social on the first Wednesday of every month.
URL:https://fannybaycommunity.com/event/december-supper-social/
LOCATION:FBCA Community Centre
CATEGORIES:Community Events
END:VEVENT
BEGIN:VEVENT
DTSTART;TZID=America/Vancouver:20261203T090000
DTEND;TZID=America/Vancouver:20261203T100000
DTSTAMP:20260419T135901
CREATED:20260311T171528Z
LAST-MODIFIED:20260311T171528Z
UID:30015617-1796288400-1796292000@fannybaycommunity.com
SUMMARY:Aerobics
DESCRIPTION:Details on the Programs and Activities page.
URL:https://fannybaycommunity.com/event/aerobics-2-2/2026-12-03/
LOCATION:Main Hall
CATEGORIES:Health and Fitness
END:VEVENT
BEGIN:VEVENT
DTSTART;TZID=America/Vancouver:20261204T090000
DTEND;TZID=America/Vancouver:20261204T120000
DTSTAMP:20260419T135901
CREATED:20260205T015515Z
LAST-MODIFIED:20260409T014250Z
UID:30020351-1796374800-1796385600@fannybaycommunity.com
SUMMARY:Pickleball AM
DESCRIPTION:
URL:https://fannybaycommunity.com/event/pickleball-3/2026-12-04/
LOCATION:Main Hall
CATEGORIES:Pickleball
ORGANIZER;CN="FBCA":MAILTO:pickleball@fannybaycommunity.com
END:VEVENT
BEGIN:VEVENT
DTSTART;TZID=America/Vancouver:20261204T150000
DTEND;TZID=America/Vancouver:20261204T170000
DTSTAMP:20260419T135901
CREATED:20260205T014239Z
LAST-MODIFIED:20260409T022126Z
UID:30020048-1796396400-1796403600@fannybaycommunity.com
SUMMARY:Pickleball PM
DESCRIPTION:Waitlist
URL:https://fannybaycommunity.com/event/pickleball-2-2-2-2-2/2026-12-04/
LOCATION:Main Hall
CATEGORIES:Health and Fitness,Pickleball
ATTACH;FMTTYPE=image/jpeg:https://fannybaycommunity.com/wp-content/uploads/AdobeStock_454600796-scaled.jpeg
END:VEVENT
BEGIN:VEVENT
DTSTART;TZID=America/Vancouver:20261204T150000
DTEND;TZID=America/Vancouver:20261204T170000
DTSTAMP:20260419T135901
CREATED:20260205T015853Z
LAST-MODIFIED:20260409T014338Z
UID:30020598-1796396400-1796403600@fannybaycommunity.com
SUMMARY:Pickleball PM
DESCRIPTION:
URL:https://fannybaycommunity.com/event/pickleball-4/2026-12-04/
CATEGORIES:Pickleball
ORGANIZER;CN="FBCA":MAILTO:pickleball@fannybaycommunity.com
END:VEVENT
BEGIN:VEVENT
DTSTART;TZID=America/Vancouver:20261206T120000
DTEND;TZID=America/Vancouver:20261206T170000
DTSTAMP:20260419T135901
CREATED:20260213T202319Z
LAST-MODIFIED:20260213T202319Z
UID:30020832-1796558400-1796576400@fannybaycommunity.com
SUMMARY:The Sharp Seven Concert
DESCRIPTION:Doors open at 1:30.  Concert begins at 2:00 PM.
URL:https://fannybaycommunity.com/event/the-sharp-seven-concert/
LOCATION:FBCA Community Centre
CATEGORIES:Concerts
ORGANIZER;CN="FBCA":MAILTO:pickleball@fannybaycommunity.com
END:VEVENT
BEGIN:VEVENT
DTSTART;TZID=America/Vancouver:20261207T090000
DTEND;TZID=America/Vancouver:20261207T100000
DTSTAMP:20260419T135901
CREATED:20260311T171246Z
LAST-MODIFIED:20260311T171247Z
UID:30015878-1796634000-1796637600@fannybaycommunity.com
SUMMARY:Aerobics
DESCRIPTION:Details on the Programs and Activities page.
URL:https://fannybaycommunity.com/event/aerobics-2-2-2-2-2-2/2026-12-07/
LOCATION:Main Hall
CATEGORIES:Health and Fitness
END:VEVENT
BEGIN:VEVENT
DTSTART;TZID=America/Vancouver:20261208T093000
DTEND;TZID=America/Vancouver:20261208T103000
DTSTAMP:20260419T135901
CREATED:20251012T052837Z
LAST-MODIFIED:20251116T181857Z
UID:30014583-1796722200-1796725800@fannybaycommunity.com
SUMMARY:Yoga with Annette
DESCRIPTION:
URL:https://fannybaycommunity.com/event/yoga-with-annette/2026-12-08/
LOCATION:Studio
CATEGORIES:Health and Fitness
END:VEVENT
BEGIN:VEVENT
DTSTART;TZID=America/Vancouver:20261208T173000
DTEND;TZID=America/Vancouver:20261208T190000
DTSTAMP:20260419T135901
CREATED:20260311T171628Z
LAST-MODIFIED:20260311T171628Z
UID:30015355-1796751000-1796756400@fannybaycommunity.com
SUMMARY:Yoga with Jane
DESCRIPTION:Contact: 250-228-1157
URL:https://fannybaycommunity.com/event/yoga-with-jane-2-2-2/2026-12-08/
LOCATION:Studio
CATEGORIES:Health and Fitness
END:VEVENT
BEGIN:VEVENT
DTSTART;TZID=America/Vancouver:20261209T130000
DTEND;TZID=America/Vancouver:20261209T150000
DTSTAMP:20260419T135901
CREATED:20251004T192110Z
LAST-MODIFIED:20260111T013804Z
UID:30014293-1796821200-1796828400@fannybaycommunity.com
SUMMARY:FBCA Music Club: Acoustic Jam
DESCRIPTION:
URL:https://fannybaycommunity.com/event/fbca-music-club/2026-12-09/
LOCATION:Dining Room
CATEGORIES:Activities
END:VEVENT
BEGIN:VEVENT
DTSTART;TZID=America/Vancouver:20261209T170000
DTEND;TZID=America/Vancouver:20261209T193000
DTSTAMP:20260419T135901
CREATED:20260311T171414Z
LAST-MODIFIED:20260409T014852Z
UID:30016139-1796835600-1796844600@fannybaycommunity.com
SUMMARY:Pickleball EVE
DESCRIPTION:
URL:https://fannybaycommunity.com/event/pickleball-5/2026-12-09/
LOCATION:Main Hall
CATEGORIES:Pickleball
ORGANIZER;CN="FBCA":MAILTO:pickleball@fannybaycommunity.com
END:VEVENT
BEGIN:VEVENT
DTSTART;TZID=America/Vancouver:20261210T090000
DTEND;TZID=America/Vancouver:20261210T100000
DTSTAMP:20260419T135901
CREATED:20260311T171528Z
LAST-MODIFIED:20260311T171528Z
UID:30015618-1796893200-1796896800@fannybaycommunity.com
SUMMARY:Aerobics
DESCRIPTION:Details on the Programs and Activities page.
URL:https://fannybaycommunity.com/event/aerobics-2-2/2026-12-10/
LOCATION:Main Hall
CATEGORIES:Health and Fitness
END:VEVENT
BEGIN:VEVENT
DTSTART;TZID=America/Vancouver:20261210T183000
DTEND;TZID=America/Vancouver:20261210T203000
DTSTAMP:20260419T135901
CREATED:20260127T021847Z
LAST-MODIFIED:20260127T024506Z
UID:30019548-1796927400-1796934600@fannybaycommunity.com
SUMMARY:Private Event
DESCRIPTION:
URL:https://fannybaycommunity.com/event/private-event/2026-12-10/
LOCATION:Main Hall
CATEGORIES:Private Events
END:VEVENT
BEGIN:VEVENT
DTSTART;TZID=America/Vancouver:20261211T090000
DTEND;TZID=America/Vancouver:20261211T120000
DTSTAMP:20260419T135901
CREATED:20260205T015515Z
LAST-MODIFIED:20260409T014250Z
UID:30020352-1796979600-1796990400@fannybaycommunity.com
SUMMARY:Pickleball AM
DESCRIPTION:
URL:https://fannybaycommunity.com/event/pickleball-3/2026-12-11/
LOCATION:Main Hall
CATEGORIES:Pickleball
ORGANIZER;CN="FBCA":MAILTO:pickleball@fannybaycommunity.com
END:VEVENT
BEGIN:VEVENT
DTSTART;TZID=America/Vancouver:20261211T150000
DTEND;TZID=America/Vancouver:20261211T170000
DTSTAMP:20260419T135901
CREATED:20260205T014239Z
LAST-MODIFIED:20260409T022126Z
UID:30020049-1797001200-1797008400@fannybaycommunity.com
SUMMARY:Pickleball PM
DESCRIPTION:Waitlist
URL:https://fannybaycommunity.com/event/pickleball-2-2-2-2-2/2026-12-11/
LOCATION:Main Hall
CATEGORIES:Health and Fitness,Pickleball
ATTACH;FMTTYPE=image/jpeg:https://fannybaycommunity.com/wp-content/uploads/AdobeStock_454600796-scaled.jpeg
END:VEVENT
BEGIN:VEVENT
DTSTART;TZID=America/Vancouver:20261211T150000
DTEND;TZID=America/Vancouver:20261211T170000
DTSTAMP:20260419T135901
CREATED:20260205T015853Z
LAST-MODIFIED:20260409T014338Z
UID:30020599-1797001200-1797008400@fannybaycommunity.com
SUMMARY:Pickleball PM
DESCRIPTION:
URL:https://fannybaycommunity.com/event/pickleball-4/2026-12-11/
CATEGORIES:Pickleball
ORGANIZER;CN="FBCA":MAILTO:pickleball@fannybaycommunity.com
END:VEVENT
BEGIN:VEVENT
DTSTART;TZID=America/Vancouver:20261214T090000
DTEND;TZID=America/Vancouver:20261214T100000
DTSTAMP:20260419T135901
CREATED:20260311T171246Z
LAST-MODIFIED:20260311T171247Z
UID:30015879-1797238800-1797242400@fannybaycommunity.com
SUMMARY:Aerobics
DESCRIPTION:Details on the Programs and Activities page.
URL:https://fannybaycommunity.com/event/aerobics-2-2-2-2-2-2/2026-12-14/
LOCATION:Main Hall
CATEGORIES:Health and Fitness
END:VEVENT
BEGIN:VEVENT
DTSTART;TZID=America/Vancouver:20261215T093000
DTEND;TZID=America/Vancouver:20261215T103000
DTSTAMP:20260419T135901
CREATED:20251012T052837Z
LAST-MODIFIED:20251116T181857Z
UID:30014584-1797327000-1797330600@fannybaycommunity.com
SUMMARY:Yoga with Annette
DESCRIPTION:
URL:https://fannybaycommunity.com/event/yoga-with-annette/2026-12-15/
LOCATION:Studio
CATEGORIES:Health and Fitness
END:VEVENT
BEGIN:VEVENT
DTSTART;TZID=America/Vancouver:20261215T173000
DTEND;TZID=America/Vancouver:20261215T190000
DTSTAMP:20260419T135901
CREATED:20260311T171628Z
LAST-MODIFIED:20260311T171628Z
UID:30015356-1797355800-1797361200@fannybaycommunity.com
SUMMARY:Yoga with Jane
DESCRIPTION:Contact: 250-228-1157
URL:https://fannybaycommunity.com/event/yoga-with-jane-2-2-2/2026-12-15/
LOCATION:Studio
CATEGORIES:Health and Fitness
END:VEVENT
BEGIN:VEVENT
DTSTART;TZID=America/Vancouver:20261216T130000
DTEND;TZID=America/Vancouver:20261216T150000
DTSTAMP:20260419T135901
CREATED:20251004T192110Z
LAST-MODIFIED:20260111T013804Z
UID:30014294-1797426000-1797433200@fannybaycommunity.com
SUMMARY:FBCA Music Club: Acoustic Jam
DESCRIPTION:
URL:https://fannybaycommunity.com/event/fbca-music-club/2026-12-16/
LOCATION:Dining Room
CATEGORIES:Activities
END:VEVENT
BEGIN:VEVENT
DTSTART;TZID=America/Vancouver:20261216T170000
DTEND;TZID=America/Vancouver:20261216T193000
DTSTAMP:20260419T135901
CREATED:20260311T171414Z
LAST-MODIFIED:20260409T014852Z
UID:30016140-1797440400-1797449400@fannybaycommunity.com
SUMMARY:Pickleball EVE
DESCRIPTION:
URL:https://fannybaycommunity.com/event/pickleball-5/2026-12-16/
LOCATION:Main Hall
CATEGORIES:Pickleball
ORGANIZER;CN="FBCA":MAILTO:pickleball@fannybaycommunity.com
END:VEVENT
BEGIN:VEVENT
DTSTART;TZID=America/Vancouver:20261217T090000
DTEND;TZID=America/Vancouver:20261217T100000
DTSTAMP:20260419T135901
CREATED:20260311T171528Z
LAST-MODIFIED:20260311T171528Z
UID:30015619-1797498000-1797501600@fannybaycommunity.com
SUMMARY:Aerobics
DESCRIPTION:Details on the Programs and Activities page.
URL:https://fannybaycommunity.com/event/aerobics-2-2/2026-12-17/
LOCATION:Main Hall
CATEGORIES:Health and Fitness
END:VEVENT
BEGIN:VEVENT
DTSTART;TZID=America/Vancouver:20261218T090000
DTEND;TZID=America/Vancouver:20261218T120000
DTSTAMP:20260419T135901
CREATED:20260205T015515Z
LAST-MODIFIED:20260409T014250Z
UID:30020353-1797584400-1797595200@fannybaycommunity.com
SUMMARY:Pickleball AM
DESCRIPTION:
URL:https://fannybaycommunity.com/event/pickleball-3/2026-12-18/
LOCATION:Main Hall
CATEGORIES:Pickleball
ORGANIZER;CN="FBCA":MAILTO:pickleball@fannybaycommunity.com
END:VEVENT
BEGIN:VEVENT
DTSTART;TZID=America/Vancouver:20261218T150000
DTEND;TZID=America/Vancouver:20261218T170000
DTSTAMP:20260419T135901
CREATED:20260205T014239Z
LAST-MODIFIED:20260409T022126Z
UID:30020050-1797606000-1797613200@fannybaycommunity.com
SUMMARY:Pickleball PM
DESCRIPTION:Waitlist
URL:https://fannybaycommunity.com/event/pickleball-2-2-2-2-2/2026-12-18/
LOCATION:Main Hall
CATEGORIES:Health and Fitness,Pickleball
ATTACH;FMTTYPE=image/jpeg:https://fannybaycommunity.com/wp-content/uploads/AdobeStock_454600796-scaled.jpeg
END:VEVENT
BEGIN:VEVENT
DTSTART;TZID=America/Vancouver:20261218T150000
DTEND;TZID=America/Vancouver:20261218T170000
DTSTAMP:20260419T135901
CREATED:20260205T015853Z
LAST-MODIFIED:20260409T014338Z
UID:30020600-1797606000-1797613200@fannybaycommunity.com
SUMMARY:Pickleball PM
DESCRIPTION:
URL:https://fannybaycommunity.com/event/pickleball-4/2026-12-18/
CATEGORIES:Pickleball
ORGANIZER;CN="FBCA":MAILTO:pickleball@fannybaycommunity.com
END:VEVENT
END:VCALENDAR