BEGIN:VCALENDAR
VERSION:2.0
PRODID:-//Fanny Bay Community Association - ECPv6.15.20//NONSGML v1.0//EN
CALSCALE:GREGORIAN
METHOD:PUBLISH
X-ORIGINAL-URL:https://fannybaycommunity.com
X-WR-CALDESC:Events for Fanny Bay Community Association
REFRESH-INTERVAL;VALUE=DURATION:PT1H
X-Robots-Tag:noindex
X-PUBLISHED-TTL:PT1H
BEGIN:VTIMEZONE
TZID:America/Vancouver
BEGIN:DAYLIGHT
TZOFFSETFROM:-0800
TZOFFSETTO:-0700
TZNAME:PDT
DTSTART:20250309T100000
END:DAYLIGHT
BEGIN:STANDARD
TZOFFSETFROM:-0700
TZOFFSETTO:-0800
TZNAME:PST
DTSTART:20251102T090000
END:STANDARD
BEGIN:DAYLIGHT
TZOFFSETFROM:-0800
TZOFFSETTO:-0700
TZNAME:PDT
DTSTART:20260308T100000
END:DAYLIGHT
BEGIN:STANDARD
TZOFFSETFROM:-0700
TZOFFSETTO:-0800
TZNAME:PST
DTSTART:20261101T090000
END:STANDARD
BEGIN:DAYLIGHT
TZOFFSETFROM:-0800
TZOFFSETTO:-0700
TZNAME:PDT
DTSTART:20270314T100000
END:DAYLIGHT
BEGIN:STANDARD
TZOFFSETFROM:-0700
TZOFFSETTO:-0800
TZNAME:PST
DTSTART:20271107T090000
END:STANDARD
END:VTIMEZONE
BEGIN:VEVENT
DTSTART;TZID=America/Vancouver:20260901T093000
DTEND;TZID=America/Vancouver:20260901T103000
DTSTAMP:20260419T071638
CREATED:20251012T052837Z
LAST-MODIFIED:20251116T181857Z
UID:30014569-1788255000-1788258600@fannybaycommunity.com
SUMMARY:Yoga with Annette
DESCRIPTION:
URL:https://fannybaycommunity.com/event/yoga-with-annette/2026-09-01/
LOCATION:Studio
CATEGORIES:Health and Fitness
END:VEVENT
BEGIN:VEVENT
DTSTART;TZID=America/Vancouver:20260901T120000
DTEND;TZID=America/Vancouver:20260901T170000
DTSTAMP:20260419T071638
CREATED:20260409T155825Z
LAST-MODIFIED:20260409T160241Z
UID:30020898-1788264000-1788282000@fannybaycommunity.com
SUMMARY:Supper Social Prep
DESCRIPTION:
URL:https://fannybaycommunity.com/event/supper-social-prep/2026-09-01/
LOCATION:Kitchen\, Canada
CATEGORIES:Private Events
END:VEVENT
BEGIN:VEVENT
DTSTART;TZID=America/Vancouver:20260901T173000
DTEND;TZID=America/Vancouver:20260901T190000
DTSTAMP:20260419T071638
CREATED:20260311T171628Z
LAST-MODIFIED:20260311T171628Z
UID:30015341-1788283800-1788289200@fannybaycommunity.com
SUMMARY:Yoga with Jane
DESCRIPTION:Contact: 250-228-1157
URL:https://fannybaycommunity.com/event/yoga-with-jane-2-2-2/2026-09-01/
LOCATION:Studio
CATEGORIES:Health and Fitness
END:VEVENT
BEGIN:VEVENT
DTSTART;TZID=America/Vancouver:20260902T130000
DTEND;TZID=America/Vancouver:20260902T150000
DTSTAMP:20260419T071638
CREATED:20251004T192110Z
LAST-MODIFIED:20260111T013804Z
UID:30014279-1788354000-1788361200@fannybaycommunity.com
SUMMARY:FBCA Music Club: Acoustic Jam
DESCRIPTION:
URL:https://fannybaycommunity.com/event/fbca-music-club/2026-09-02/
LOCATION:Dining Room
CATEGORIES:Activities
END:VEVENT
BEGIN:VEVENT
DTSTART;TZID=America/Vancouver:20260902T153000
DTEND;TZID=America/Vancouver:20260902T200000
DTSTAMP:20260419T071638
CREATED:20260409T155825Z
LAST-MODIFIED:20260409T160241Z
UID:30020899-1788363000-1788379200@fannybaycommunity.com
SUMMARY:Supper Social Prep
DESCRIPTION:
URL:https://fannybaycommunity.com/event/supper-social-prep/2026-09-02/
LOCATION:Kitchen\, Canada
CATEGORIES:Private Events
END:VEVENT
BEGIN:VEVENT
DTSTART;TZID=America/Vancouver:20260902T170000
DTEND;TZID=America/Vancouver:20260902T190000
DTSTAMP:20260419T071638
CREATED:20260409T003341Z
LAST-MODIFIED:20260409T003341Z
UID:30020878-1788368400-1788375600@fannybaycommunity.com
SUMMARY:September - Supper Social
DESCRIPTION:Join us for a Supper Social on the first Wednesday of every month.
URL:https://fannybaycommunity.com/event/september-supper-social/
LOCATION:FBCA Community Centre
CATEGORIES:Community Events
END:VEVENT
BEGIN:VEVENT
DTSTART;TZID=America/Vancouver:20260902T180000
DTEND;TZID=America/Vancouver:20260902T190000
DTSTAMP:20260419T071638
CREATED:20260318T172149Z
LAST-MODIFIED:20260318T172149Z
UID:30020868-1788372000-1788375600@fannybaycommunity.com
SUMMARY:Beachcombers Academy - Parent Orientation
DESCRIPTION:
URL:https://fannybaycommunity.com/event/beachcombers-academy-parent-orientation/
LOCATION:Main Hall
CATEGORIES:Private Events
END:VEVENT
BEGIN:VEVENT
DTSTART;TZID=America/Vancouver:20260903T090000
DTEND;TZID=America/Vancouver:20260903T100000
DTSTAMP:20260419T071638
CREATED:20260311T171528Z
LAST-MODIFIED:20260311T171528Z
UID:30015604-1788426000-1788429600@fannybaycommunity.com
SUMMARY:Aerobics
DESCRIPTION:Details on the Programs and Activities page.
URL:https://fannybaycommunity.com/event/aerobics-2-2/2026-09-03/
LOCATION:Main Hall
CATEGORIES:Health and Fitness
END:VEVENT
BEGIN:VEVENT
DTSTART;TZID=America/Vancouver:20260903T183000
DTEND;TZID=America/Vancouver:20260903T203000
DTSTAMP:20260419T071638
CREATED:20260127T021847Z
LAST-MODIFIED:20260127T024506Z
UID:30019542-1788460200-1788467400@fannybaycommunity.com
SUMMARY:Private Event
DESCRIPTION:
URL:https://fannybaycommunity.com/event/private-event/2026-09-03/
LOCATION:Main Hall
CATEGORIES:Private Events
END:VEVENT
BEGIN:VEVENT
DTSTART;TZID=America/Vancouver:20260904T090000
DTEND;TZID=America/Vancouver:20260904T120000
DTSTAMP:20260419T071638
CREATED:20260205T015515Z
LAST-MODIFIED:20260409T014250Z
UID:30020338-1788512400-1788523200@fannybaycommunity.com
SUMMARY:Pickleball AM
DESCRIPTION:
URL:https://fannybaycommunity.com/event/pickleball-3/2026-09-04/
LOCATION:Main Hall
CATEGORIES:Pickleball
ORGANIZER;CN="FBCA":MAILTO:pickleball@fannybaycommunity.com
END:VEVENT
BEGIN:VEVENT
DTSTART;TZID=America/Vancouver:20260904T150000
DTEND;TZID=America/Vancouver:20260904T170000
DTSTAMP:20260419T071638
CREATED:20260205T014239Z
LAST-MODIFIED:20260409T022126Z
UID:30020035-1788534000-1788541200@fannybaycommunity.com
SUMMARY:Pickleball PM
DESCRIPTION:Waitlist
URL:https://fannybaycommunity.com/event/pickleball-2-2-2-2-2/2026-09-04/
LOCATION:Main Hall
CATEGORIES:Health and Fitness,Pickleball
ATTACH;FMTTYPE=image/jpeg:https://fannybaycommunity.com/wp-content/uploads/AdobeStock_454600796-scaled.jpeg
END:VEVENT
BEGIN:VEVENT
DTSTART;TZID=America/Vancouver:20260904T150000
DTEND;TZID=America/Vancouver:20260904T170000
DTSTAMP:20260419T071638
CREATED:20260205T015853Z
LAST-MODIFIED:20260409T014338Z
UID:30020585-1788534000-1788541200@fannybaycommunity.com
SUMMARY:Pickleball PM
DESCRIPTION:
URL:https://fannybaycommunity.com/event/pickleball-4/2026-09-04/
CATEGORIES:Pickleball
ORGANIZER;CN="FBCA":MAILTO:pickleball@fannybaycommunity.com
END:VEVENT
BEGIN:VEVENT
DTSTART;TZID=America/Vancouver:20260907T090000
DTEND;TZID=America/Vancouver:20260907T100000
DTSTAMP:20260419T071638
CREATED:20260311T171246Z
LAST-MODIFIED:20260311T171247Z
UID:30015865-1788771600-1788775200@fannybaycommunity.com
SUMMARY:Aerobics
DESCRIPTION:Details on the Programs and Activities page.
URL:https://fannybaycommunity.com/event/aerobics-2-2-2-2-2-2/2026-09-07/
LOCATION:Main Hall
CATEGORIES:Health and Fitness
END:VEVENT
BEGIN:VEVENT
DTSTART;TZID=America/Vancouver:20260908T093000
DTEND;TZID=America/Vancouver:20260908T103000
DTSTAMP:20260419T071638
CREATED:20251012T052837Z
LAST-MODIFIED:20251116T181857Z
UID:30014570-1788859800-1788863400@fannybaycommunity.com
SUMMARY:Yoga with Annette
DESCRIPTION:
URL:https://fannybaycommunity.com/event/yoga-with-annette/2026-09-08/
LOCATION:Studio
CATEGORIES:Health and Fitness
END:VEVENT
BEGIN:VEVENT
DTSTART;TZID=America/Vancouver:20260908T173000
DTEND;TZID=America/Vancouver:20260908T190000
DTSTAMP:20260419T071638
CREATED:20260311T171628Z
LAST-MODIFIED:20260311T171628Z
UID:30015342-1788888600-1788894000@fannybaycommunity.com
SUMMARY:Yoga with Jane
DESCRIPTION:Contact: 250-228-1157
URL:https://fannybaycommunity.com/event/yoga-with-jane-2-2-2/2026-09-08/
LOCATION:Studio
CATEGORIES:Health and Fitness
END:VEVENT
BEGIN:VEVENT
DTSTART;TZID=America/Vancouver:20260909T130000
DTEND;TZID=America/Vancouver:20260909T150000
DTSTAMP:20260419T071638
CREATED:20251004T192110Z
LAST-MODIFIED:20260111T013804Z
UID:30014280-1788958800-1788966000@fannybaycommunity.com
SUMMARY:FBCA Music Club: Acoustic Jam
DESCRIPTION:
URL:https://fannybaycommunity.com/event/fbca-music-club/2026-09-09/
LOCATION:Dining Room
CATEGORIES:Activities
END:VEVENT
BEGIN:VEVENT
DTSTART;TZID=America/Vancouver:20260909T170000
DTEND;TZID=America/Vancouver:20260909T193000
DTSTAMP:20260419T071638
CREATED:20260311T171414Z
LAST-MODIFIED:20260409T014852Z
UID:30016126-1788973200-1788982200@fannybaycommunity.com
SUMMARY:Pickleball EVE
DESCRIPTION:
URL:https://fannybaycommunity.com/event/pickleball-5/2026-09-09/
LOCATION:Main Hall
CATEGORIES:Pickleball
ORGANIZER;CN="FBCA":MAILTO:pickleball@fannybaycommunity.com
END:VEVENT
BEGIN:VEVENT
DTSTART;TZID=America/Vancouver:20260910T090000
DTEND;TZID=America/Vancouver:20260910T100000
DTSTAMP:20260419T071638
CREATED:20260311T171528Z
LAST-MODIFIED:20260311T171528Z
UID:30015605-1789030800-1789034400@fannybaycommunity.com
SUMMARY:Aerobics
DESCRIPTION:Details on the Programs and Activities page.
URL:https://fannybaycommunity.com/event/aerobics-2-2/2026-09-10/
LOCATION:Main Hall
CATEGORIES:Health and Fitness
END:VEVENT
BEGIN:VEVENT
DTSTART;TZID=America/Vancouver:20260911T090000
DTEND;TZID=America/Vancouver:20260911T120000
DTSTAMP:20260419T071638
CREATED:20260205T015515Z
LAST-MODIFIED:20260409T014250Z
UID:30020339-1789117200-1789128000@fannybaycommunity.com
SUMMARY:Pickleball AM
DESCRIPTION:
URL:https://fannybaycommunity.com/event/pickleball-3/2026-09-11/
LOCATION:Main Hall
CATEGORIES:Pickleball
ORGANIZER;CN="FBCA":MAILTO:pickleball@fannybaycommunity.com
END:VEVENT
BEGIN:VEVENT
DTSTART;TZID=America/Vancouver:20260911T150000
DTEND;TZID=America/Vancouver:20260911T170000
DTSTAMP:20260419T071638
CREATED:20260205T014239Z
LAST-MODIFIED:20260409T022126Z
UID:30020036-1789138800-1789146000@fannybaycommunity.com
SUMMARY:Pickleball PM
DESCRIPTION:Waitlist
URL:https://fannybaycommunity.com/event/pickleball-2-2-2-2-2/2026-09-11/
LOCATION:Main Hall
CATEGORIES:Health and Fitness,Pickleball
ATTACH;FMTTYPE=image/jpeg:https://fannybaycommunity.com/wp-content/uploads/AdobeStock_454600796-scaled.jpeg
END:VEVENT
BEGIN:VEVENT
DTSTART;TZID=America/Vancouver:20260911T150000
DTEND;TZID=America/Vancouver:20260911T170000
DTSTAMP:20260419T071638
CREATED:20260205T015853Z
LAST-MODIFIED:20260409T014338Z
UID:30020586-1789138800-1789146000@fannybaycommunity.com
SUMMARY:Pickleball PM
DESCRIPTION:
URL:https://fannybaycommunity.com/event/pickleball-4/2026-09-11/
CATEGORIES:Pickleball
ORGANIZER;CN="FBCA":MAILTO:pickleball@fannybaycommunity.com
END:VEVENT
BEGIN:VEVENT
DTSTART;TZID=America/Vancouver:20260911T180000
DTEND;TZID=America/Vancouver:20260911T210000
DTSTAMP:20260419T071638
CREATED:20260217T212440Z
LAST-MODIFIED:20260217T215404Z
UID:30020850-1789149600-1789160400@fannybaycommunity.com
SUMMARY:Wedding
DESCRIPTION:
URL:https://fannybaycommunity.com/event/wedding/2026-09-11/
LOCATION:Hall & Grounds
CATEGORIES:Private Events
END:VEVENT
BEGIN:VEVENT
DTSTART;TZID=America/Vancouver:20260912T160000
DTEND;TZID=America/Vancouver:20260912T233000
DTSTAMP:20260419T071638
CREATED:20260217T212440Z
LAST-MODIFIED:20260217T215404Z
UID:30020853-1789228800-1789255800@fannybaycommunity.com
SUMMARY:Wedding
DESCRIPTION:
URL:https://fannybaycommunity.com/event/wedding/2026-09-12/
LOCATION:Hall & Grounds
CATEGORIES:Private Events
END:VEVENT
BEGIN:VEVENT
DTSTART;TZID=America/Vancouver:20260913T090000
DTEND;TZID=America/Vancouver:20260913T120000
DTSTAMP:20260419T071638
CREATED:20260217T212440Z
LAST-MODIFIED:20260217T215404Z
UID:30020854-1789290000-1789300800@fannybaycommunity.com
SUMMARY:Wedding
DESCRIPTION:
URL:https://fannybaycommunity.com/event/wedding/2026-09-13/
LOCATION:Hall & Grounds
CATEGORIES:Private Events
END:VEVENT
BEGIN:VEVENT
DTSTART;TZID=America/Vancouver:20260913T190000
DTEND;TZID=America/Vancouver:20260913T220000
DTSTAMP:20260419T071638
CREATED:20260103T031236Z
LAST-MODIFIED:20260125T011343Z
UID:30015568-1789326000-1789336800@fannybaycommunity.com
SUMMARY:FBCA Concert Series: Schmaltz and Pepper
DESCRIPTION:
URL:https://fannybaycommunity.com/event/fbca-concert-series-save-the-date/
LOCATION:FBCA Community Centre
CATEGORIES:Concerts
END:VEVENT
BEGIN:VEVENT
DTSTART;TZID=America/Vancouver:20260914T090000
DTEND;TZID=America/Vancouver:20260914T100000
DTSTAMP:20260419T071638
CREATED:20260311T171246Z
LAST-MODIFIED:20260311T171247Z
UID:30015866-1789376400-1789380000@fannybaycommunity.com
SUMMARY:Aerobics
DESCRIPTION:Details on the Programs and Activities page.
URL:https://fannybaycommunity.com/event/aerobics-2-2-2-2-2-2/2026-09-14/
LOCATION:Main Hall
CATEGORIES:Health and Fitness
END:VEVENT
BEGIN:VEVENT
DTSTART;TZID=America/Vancouver:20260915T093000
DTEND;TZID=America/Vancouver:20260915T103000
DTSTAMP:20260419T071638
CREATED:20251012T052837Z
LAST-MODIFIED:20251116T181857Z
UID:30014571-1789464600-1789468200@fannybaycommunity.com
SUMMARY:Yoga with Annette
DESCRIPTION:
URL:https://fannybaycommunity.com/event/yoga-with-annette/2026-09-15/
LOCATION:Studio
CATEGORIES:Health and Fitness
END:VEVENT
BEGIN:VEVENT
DTSTART;TZID=America/Vancouver:20260915T173000
DTEND;TZID=America/Vancouver:20260915T190000
DTSTAMP:20260419T071638
CREATED:20260311T171628Z
LAST-MODIFIED:20260311T171628Z
UID:30015343-1789493400-1789498800@fannybaycommunity.com
SUMMARY:Yoga with Jane
DESCRIPTION:Contact: 250-228-1157
URL:https://fannybaycommunity.com/event/yoga-with-jane-2-2-2/2026-09-15/
LOCATION:Studio
CATEGORIES:Health and Fitness
END:VEVENT
BEGIN:VEVENT
DTSTART;TZID=America/Vancouver:20260916T130000
DTEND;TZID=America/Vancouver:20260916T150000
DTSTAMP:20260419T071638
CREATED:20251004T192110Z
LAST-MODIFIED:20260111T013804Z
UID:30014281-1789563600-1789570800@fannybaycommunity.com
SUMMARY:FBCA Music Club: Acoustic Jam
DESCRIPTION:
URL:https://fannybaycommunity.com/event/fbca-music-club/2026-09-16/
LOCATION:Dining Room
CATEGORIES:Activities
END:VEVENT
BEGIN:VEVENT
DTSTART;TZID=America/Vancouver:20260916T130000
DTEND;TZID=America/Vancouver:20260916T230000
DTSTAMP:20260419T071638
CREATED:20251124T053316Z
LAST-MODIFIED:20251124T053316Z
UID:30015164-1789563600-1789599600@fannybaycommunity.com
SUMMARY:2026 Route 19A Arts Festival
DESCRIPTION:
URL:https://fannybaycommunity.com/event/2026-route-19a-arts-festival/
LOCATION:FBCA Community Centre
CATEGORIES:Concerts
END:VEVENT
END:VCALENDAR