BEGIN:VCALENDAR
VERSION:2.0
PRODID:-//Fanny Bay Community Association - ECPv6.15.20//NONSGML v1.0//EN
CALSCALE:GREGORIAN
METHOD:PUBLISH
X-WR-CALNAME:Fanny Bay Community Association
X-ORIGINAL-URL:https://fannybaycommunity.com
X-WR-CALDESC:Events for Fanny Bay Community Association
REFRESH-INTERVAL;VALUE=DURATION:PT1H
X-Robots-Tag:noindex
X-PUBLISHED-TTL:PT1H
BEGIN:VTIMEZONE
TZID:America/Vancouver
BEGIN:DAYLIGHT
TZOFFSETFROM:-0800
TZOFFSETTO:-0700
TZNAME:PDT
DTSTART:20250309T100000
END:DAYLIGHT
BEGIN:STANDARD
TZOFFSETFROM:-0700
TZOFFSETTO:-0800
TZNAME:PST
DTSTART:20251102T090000
END:STANDARD
BEGIN:DAYLIGHT
TZOFFSETFROM:-0800
TZOFFSETTO:-0700
TZNAME:PDT
DTSTART:20260308T100000
END:DAYLIGHT
BEGIN:STANDARD
TZOFFSETFROM:-0700
TZOFFSETTO:-0800
TZNAME:PST
DTSTART:20261101T090000
END:STANDARD
BEGIN:DAYLIGHT
TZOFFSETFROM:-0800
TZOFFSETTO:-0700
TZNAME:PDT
DTSTART:20270314T100000
END:DAYLIGHT
BEGIN:STANDARD
TZOFFSETFROM:-0700
TZOFFSETTO:-0800
TZNAME:PST
DTSTART:20271107T090000
END:STANDARD
END:VTIMEZONE
BEGIN:VEVENT
DTSTART;TZID=America/Vancouver:20261110T173000
DTEND;TZID=America/Vancouver:20261110T190000
DTSTAMP:20260424T030036
CREATED:20260311T171628Z
LAST-MODIFIED:20260311T171628Z
UID:30015351-1794331800-1794337200@fannybaycommunity.com
SUMMARY:Yoga with Jane
DESCRIPTION:Contact: 250-228-1157
URL:https://fannybaycommunity.com/event/yoga-with-jane-2-2-2/2026-11-10/
LOCATION:Studio
CATEGORIES:Health and Fitness
END:VEVENT
BEGIN:VEVENT
DTSTART;TZID=America/Vancouver:20261111T130000
DTEND;TZID=America/Vancouver:20261111T150000
DTSTAMP:20260424T030036
CREATED:20251004T192110Z
LAST-MODIFIED:20260111T013804Z
UID:30014289-1794402000-1794409200@fannybaycommunity.com
SUMMARY:FBCA Music Club: Acoustic Jam
DESCRIPTION:
URL:https://fannybaycommunity.com/event/fbca-music-club/2026-11-11/
LOCATION:Dining Room
CATEGORIES:Activities
END:VEVENT
BEGIN:VEVENT
DTSTART;TZID=America/Vancouver:20261111T170000
DTEND;TZID=America/Vancouver:20261111T193000
DTSTAMP:20260424T030036
CREATED:20260311T171414Z
LAST-MODIFIED:20260409T014852Z
UID:30016135-1794416400-1794425400@fannybaycommunity.com
SUMMARY:Pickleball EVE
DESCRIPTION:
URL:https://fannybaycommunity.com/event/pickleball-5/2026-11-11/
LOCATION:Main Hall
CATEGORIES:Pickleball
ORGANIZER;CN="FBCA":MAILTO:pickleball@fannybaycommunity.com
END:VEVENT
BEGIN:VEVENT
DTSTART;TZID=America/Vancouver:20261112T090000
DTEND;TZID=America/Vancouver:20261112T100000
DTSTAMP:20260424T030036
CREATED:20260311T171528Z
LAST-MODIFIED:20260311T171528Z
UID:30015614-1794474000-1794477600@fannybaycommunity.com
SUMMARY:Aerobics
DESCRIPTION:Details on the Programs and Activities page.
URL:https://fannybaycommunity.com/event/aerobics-2-2/2026-11-12/
LOCATION:Main Hall
CATEGORIES:Health and Fitness
END:VEVENT
BEGIN:VEVENT
DTSTART;TZID=America/Vancouver:20261112T183000
DTEND;TZID=America/Vancouver:20261112T203000
DTSTAMP:20260424T030036
CREATED:20260127T021847Z
LAST-MODIFIED:20260127T024506Z
UID:30019547-1794508200-1794515400@fannybaycommunity.com
SUMMARY:Private Event
DESCRIPTION:
URL:https://fannybaycommunity.com/event/private-event/2026-11-12/
LOCATION:Main Hall
CATEGORIES:Private Events
END:VEVENT
BEGIN:VEVENT
DTSTART;TZID=America/Vancouver:20261113T090000
DTEND;TZID=America/Vancouver:20261113T120000
DTSTAMP:20260424T030036
CREATED:20260205T015515Z
LAST-MODIFIED:20260409T014250Z
UID:30020348-1794560400-1794571200@fannybaycommunity.com
SUMMARY:Pickleball AM
DESCRIPTION:
URL:https://fannybaycommunity.com/event/pickleball-3/2026-11-13/
LOCATION:Main Hall
CATEGORIES:Pickleball
ORGANIZER;CN="FBCA":MAILTO:pickleball@fannybaycommunity.com
END:VEVENT
BEGIN:VEVENT
DTSTART;TZID=America/Vancouver:20261113T150000
DTEND;TZID=America/Vancouver:20261113T170000
DTSTAMP:20260424T030036
CREATED:20260205T014239Z
LAST-MODIFIED:20260409T022126Z
UID:30020045-1794582000-1794589200@fannybaycommunity.com
SUMMARY:Pickleball PM
DESCRIPTION:Waitlist
URL:https://fannybaycommunity.com/event/pickleball-2-2-2-2-2/2026-11-13/
LOCATION:Main Hall
CATEGORIES:Health and Fitness,Pickleball
ATTACH;FMTTYPE=image/jpeg:https://fannybaycommunity.com/wp-content/uploads/AdobeStock_454600796-scaled.jpeg
END:VEVENT
BEGIN:VEVENT
DTSTART;TZID=America/Vancouver:20261113T150000
DTEND;TZID=America/Vancouver:20261113T170000
DTSTAMP:20260424T030036
CREATED:20260205T015853Z
LAST-MODIFIED:20260409T014338Z
UID:30020595-1794582000-1794589200@fannybaycommunity.com
SUMMARY:Pickleball PM
DESCRIPTION:
URL:https://fannybaycommunity.com/event/pickleball-4/2026-11-13/
CATEGORIES:Pickleball
ORGANIZER;CN="FBCA":MAILTO:pickleball@fannybaycommunity.com
END:VEVENT
BEGIN:VEVENT
DTSTART;TZID=America/Vancouver:20261116T090000
DTEND;TZID=America/Vancouver:20261116T100000
DTSTAMP:20260424T030036
CREATED:20260311T171246Z
LAST-MODIFIED:20260311T171247Z
UID:30015875-1794819600-1794823200@fannybaycommunity.com
SUMMARY:Aerobics
DESCRIPTION:Details on the Programs and Activities page.
URL:https://fannybaycommunity.com/event/aerobics-2-2-2-2-2-2/2026-11-16/
LOCATION:Main Hall
CATEGORIES:Health and Fitness
END:VEVENT
BEGIN:VEVENT
DTSTART;TZID=America/Vancouver:20261117T093000
DTEND;TZID=America/Vancouver:20261117T103000
DTSTAMP:20260424T030036
CREATED:20251012T052837Z
LAST-MODIFIED:20251116T181857Z
UID:30014580-1794907800-1794911400@fannybaycommunity.com
SUMMARY:Yoga with Annette
DESCRIPTION:
URL:https://fannybaycommunity.com/event/yoga-with-annette/2026-11-17/
LOCATION:Studio
CATEGORIES:Health and Fitness
END:VEVENT
BEGIN:VEVENT
DTSTART;TZID=America/Vancouver:20261117T173000
DTEND;TZID=America/Vancouver:20261117T190000
DTSTAMP:20260424T030036
CREATED:20260311T171628Z
LAST-MODIFIED:20260311T171628Z
UID:30015352-1794936600-1794942000@fannybaycommunity.com
SUMMARY:Yoga with Jane
DESCRIPTION:Contact: 250-228-1157
URL:https://fannybaycommunity.com/event/yoga-with-jane-2-2-2/2026-11-17/
LOCATION:Studio
CATEGORIES:Health and Fitness
END:VEVENT
BEGIN:VEVENT
DTSTART;TZID=America/Vancouver:20261118T130000
DTEND;TZID=America/Vancouver:20261118T150000
DTSTAMP:20260424T030036
CREATED:20251004T192110Z
LAST-MODIFIED:20260111T013804Z
UID:30014290-1795006800-1795014000@fannybaycommunity.com
SUMMARY:FBCA Music Club: Acoustic Jam
DESCRIPTION:
URL:https://fannybaycommunity.com/event/fbca-music-club/2026-11-18/
LOCATION:Dining Room
CATEGORIES:Activities
END:VEVENT
BEGIN:VEVENT
DTSTART;TZID=America/Vancouver:20261118T170000
DTEND;TZID=America/Vancouver:20261118T193000
DTSTAMP:20260424T030036
CREATED:20260311T171414Z
LAST-MODIFIED:20260409T014852Z
UID:30016136-1795021200-1795030200@fannybaycommunity.com
SUMMARY:Pickleball EVE
DESCRIPTION:
URL:https://fannybaycommunity.com/event/pickleball-5/2026-11-18/
LOCATION:Main Hall
CATEGORIES:Pickleball
ORGANIZER;CN="FBCA":MAILTO:pickleball@fannybaycommunity.com
END:VEVENT
BEGIN:VEVENT
DTSTART;TZID=America/Vancouver:20261119T090000
DTEND;TZID=America/Vancouver:20261119T100000
DTSTAMP:20260424T030036
CREATED:20260311T171528Z
LAST-MODIFIED:20260311T171528Z
UID:30015615-1795078800-1795082400@fannybaycommunity.com
SUMMARY:Aerobics
DESCRIPTION:Details on the Programs and Activities page.
URL:https://fannybaycommunity.com/event/aerobics-2-2/2026-11-19/
LOCATION:Main Hall
CATEGORIES:Health and Fitness
END:VEVENT
BEGIN:VEVENT
DTSTART;TZID=America/Vancouver:20261120T090000
DTEND;TZID=America/Vancouver:20261120T120000
DTSTAMP:20260424T030036
CREATED:20260205T015515Z
LAST-MODIFIED:20260409T014250Z
UID:30020349-1795165200-1795176000@fannybaycommunity.com
SUMMARY:Pickleball AM
DESCRIPTION:
URL:https://fannybaycommunity.com/event/pickleball-3/2026-11-20/
LOCATION:Main Hall
CATEGORIES:Pickleball
ORGANIZER;CN="FBCA":MAILTO:pickleball@fannybaycommunity.com
END:VEVENT
BEGIN:VEVENT
DTSTART;TZID=America/Vancouver:20261120T150000
DTEND;TZID=America/Vancouver:20261120T170000
DTSTAMP:20260424T030036
CREATED:20260205T014239Z
LAST-MODIFIED:20260409T022126Z
UID:30020046-1795186800-1795194000@fannybaycommunity.com
SUMMARY:Pickleball PM
DESCRIPTION:Waitlist
URL:https://fannybaycommunity.com/event/pickleball-2-2-2-2-2/2026-11-20/
LOCATION:Main Hall
CATEGORIES:Health and Fitness,Pickleball
ATTACH;FMTTYPE=image/jpeg:https://fannybaycommunity.com/wp-content/uploads/AdobeStock_454600796-scaled.jpeg
END:VEVENT
BEGIN:VEVENT
DTSTART;TZID=America/Vancouver:20261120T150000
DTEND;TZID=America/Vancouver:20261120T170000
DTSTAMP:20260424T030036
CREATED:20260205T015853Z
LAST-MODIFIED:20260409T014338Z
UID:30020596-1795186800-1795194000@fannybaycommunity.com
SUMMARY:Pickleball PM
DESCRIPTION:
URL:https://fannybaycommunity.com/event/pickleball-4/2026-11-20/
CATEGORIES:Pickleball
ORGANIZER;CN="FBCA":MAILTO:pickleball@fannybaycommunity.com
END:VEVENT
BEGIN:VEVENT
DTSTART;VALUE=DATE:20261121
DTEND;VALUE=DATE:20261123
DTSTAMP:20260424T030036
CREATED:20260130T015552Z
LAST-MODIFIED:20260130T015552Z
UID:30019550-1795219200-1795391999@fannybaycommunity.com
SUMMARY:Concert
DESCRIPTION:
URL:https://fannybaycommunity.com/event/concert/
LOCATION:FBCA Community Centre
CATEGORIES:Concerts
ORGANIZER;CN="FBCA":MAILTO:pickleball@fannybaycommunity.com
END:VEVENT
BEGIN:VEVENT
DTSTART;TZID=America/Vancouver:20261123T090000
DTEND;TZID=America/Vancouver:20261123T100000
DTSTAMP:20260424T030036
CREATED:20260311T171246Z
LAST-MODIFIED:20260311T171247Z
UID:30015876-1795424400-1795428000@fannybaycommunity.com
SUMMARY:Aerobics
DESCRIPTION:Details on the Programs and Activities page.
URL:https://fannybaycommunity.com/event/aerobics-2-2-2-2-2-2/2026-11-23/
LOCATION:Main Hall
CATEGORIES:Health and Fitness
END:VEVENT
BEGIN:VEVENT
DTSTART;TZID=America/Vancouver:20261124T093000
DTEND;TZID=America/Vancouver:20261124T103000
DTSTAMP:20260424T030036
CREATED:20251012T052837Z
LAST-MODIFIED:20251116T181857Z
UID:30014581-1795512600-1795516200@fannybaycommunity.com
SUMMARY:Yoga with Annette
DESCRIPTION:
URL:https://fannybaycommunity.com/event/yoga-with-annette/2026-11-24/
LOCATION:Studio
CATEGORIES:Health and Fitness
END:VEVENT
BEGIN:VEVENT
DTSTART;TZID=America/Vancouver:20261124T173000
DTEND;TZID=America/Vancouver:20261124T190000
DTSTAMP:20260424T030036
CREATED:20260311T171628Z
LAST-MODIFIED:20260311T171628Z
UID:30015353-1795541400-1795546800@fannybaycommunity.com
SUMMARY:Yoga with Jane
DESCRIPTION:Contact: 250-228-1157
URL:https://fannybaycommunity.com/event/yoga-with-jane-2-2-2/2026-11-24/
LOCATION:Studio
CATEGORIES:Health and Fitness
END:VEVENT
BEGIN:VEVENT
DTSTART;TZID=America/Vancouver:20261125T130000
DTEND;TZID=America/Vancouver:20261125T150000
DTSTAMP:20260424T030036
CREATED:20251004T192110Z
LAST-MODIFIED:20260111T013804Z
UID:30014291-1795611600-1795618800@fannybaycommunity.com
SUMMARY:FBCA Music Club: Acoustic Jam
DESCRIPTION:
URL:https://fannybaycommunity.com/event/fbca-music-club/2026-11-25/
LOCATION:Dining Room
CATEGORIES:Activities
END:VEVENT
BEGIN:VEVENT
DTSTART;TZID=America/Vancouver:20261125T170000
DTEND;TZID=America/Vancouver:20261125T193000
DTSTAMP:20260424T030036
CREATED:20260311T171414Z
LAST-MODIFIED:20260409T014852Z
UID:30016137-1795626000-1795635000@fannybaycommunity.com
SUMMARY:Pickleball EVE
DESCRIPTION:
URL:https://fannybaycommunity.com/event/pickleball-5/2026-11-25/
LOCATION:Main Hall
CATEGORIES:Pickleball
ORGANIZER;CN="FBCA":MAILTO:pickleball@fannybaycommunity.com
END:VEVENT
BEGIN:VEVENT
DTSTART;TZID=America/Vancouver:20261126T080000
DTEND;TZID=America/Vancouver:20261126T170000
DTSTAMP:20260424T030036
CREATED:20260127T021847Z
LAST-MODIFIED:20260127T024506Z
UID:30019524-1795680000-1795712400@fannybaycommunity.com
SUMMARY:Private Event
DESCRIPTION:
URL:https://fannybaycommunity.com/event/private-event/2026-11-26/
LOCATION:Main Hall
CATEGORIES:Private Events
END:VEVENT
BEGIN:VEVENT
DTSTART;TZID=America/Vancouver:20261126T090000
DTEND;TZID=America/Vancouver:20261126T100000
DTSTAMP:20260424T030036
CREATED:20260311T171528Z
LAST-MODIFIED:20260311T171528Z
UID:30015616-1795683600-1795687200@fannybaycommunity.com
SUMMARY:Aerobics
DESCRIPTION:Details on the Programs and Activities page.
URL:https://fannybaycommunity.com/event/aerobics-2-2/2026-11-26/
LOCATION:Main Hall
CATEGORIES:Health and Fitness
END:VEVENT
BEGIN:VEVENT
DTSTART;TZID=America/Vancouver:20261126T183000
DTEND;TZID=America/Vancouver:20261126T203000
DTSTAMP:20260424T030036
CREATED:20260404T170218Z
LAST-MODIFIED:20260404T170218Z
UID:30020872-1795717800-1795725000@fannybaycommunity.com
SUMMARY:Private Event
DESCRIPTION:
URL:https://fannybaycommunity.com/event/private-event-5/
LOCATION:Main Hall
CATEGORIES:Private Events
END:VEVENT
BEGIN:VEVENT
DTSTART;TZID=America/Vancouver:20261126T190000
DTEND;TZID=America/Vancouver:20261126T210000
DTSTAMP:20260424T030036
CREATED:20260206T023147Z
LAST-MODIFIED:20260206T023147Z
UID:30020826-1795719600-1795726800@fannybaycommunity.com
SUMMARY:FBCA Board Meeting
DESCRIPTION:
URL:https://fannybaycommunity.com/event/fbca-board-meeting/2026-11-26/
LOCATION:Dining Room
CATEGORIES:Meetings
ORGANIZER;CN="FBCA":MAILTO:pickleball@fannybaycommunity.com
END:VEVENT
BEGIN:VEVENT
DTSTART;VALUE=DATE:20261127
DTEND;VALUE=DATE:20261130
DTSTAMP:20260424T030036
CREATED:20260130T015831Z
LAST-MODIFIED:20260130T015831Z
UID:30019551-1795737600-1795996799@fannybaycommunity.com
SUMMARY:Christmas Market
DESCRIPTION:
URL:https://fannybaycommunity.com/event/christmas-market/
CATEGORIES:Community Events
ORGANIZER;CN="FBCA":MAILTO:pickleball@fannybaycommunity.com
END:VEVENT
BEGIN:VEVENT
DTSTART;TZID=America/Vancouver:20261127T090000
DTEND;TZID=America/Vancouver:20261127T120000
DTSTAMP:20260424T030036
CREATED:20260205T015515Z
LAST-MODIFIED:20260409T014250Z
UID:30020350-1795770000-1795780800@fannybaycommunity.com
SUMMARY:Pickleball AM
DESCRIPTION:
URL:https://fannybaycommunity.com/event/pickleball-3/2026-11-27/
LOCATION:Main Hall
CATEGORIES:Pickleball
ORGANIZER;CN="FBCA":MAILTO:pickleball@fannybaycommunity.com
END:VEVENT
BEGIN:VEVENT
DTSTART;TZID=America/Vancouver:20261127T150000
DTEND;TZID=America/Vancouver:20261127T170000
DTSTAMP:20260424T030036
CREATED:20260205T014239Z
LAST-MODIFIED:20260409T022126Z
UID:30020047-1795791600-1795798800@fannybaycommunity.com
SUMMARY:Pickleball PM
DESCRIPTION:Waitlist
URL:https://fannybaycommunity.com/event/pickleball-2-2-2-2-2/2026-11-27/
LOCATION:Main Hall
CATEGORIES:Health and Fitness,Pickleball
ATTACH;FMTTYPE=image/jpeg:https://fannybaycommunity.com/wp-content/uploads/AdobeStock_454600796-scaled.jpeg
END:VEVENT
END:VCALENDAR