BEGIN:VCALENDAR
VERSION:2.0
PRODID:-//Fanny Bay Community Association - ECPv6.15.20//NONSGML v1.0//EN
CALSCALE:GREGORIAN
METHOD:PUBLISH
X-ORIGINAL-URL:https://fannybaycommunity.com
X-WR-CALDESC:Events for Fanny Bay Community Association
REFRESH-INTERVAL;VALUE=DURATION:PT1H
X-Robots-Tag:noindex
X-PUBLISHED-TTL:PT1H
BEGIN:VTIMEZONE
TZID:America/Vancouver
BEGIN:DAYLIGHT
TZOFFSETFROM:-0800
TZOFFSETTO:-0700
TZNAME:PDT
DTSTART:20250309T100000
END:DAYLIGHT
BEGIN:STANDARD
TZOFFSETFROM:-0700
TZOFFSETTO:-0800
TZNAME:PST
DTSTART:20251102T090000
END:STANDARD
BEGIN:DAYLIGHT
TZOFFSETFROM:-0800
TZOFFSETTO:-0700
TZNAME:PDT
DTSTART:20260308T100000
END:DAYLIGHT
BEGIN:STANDARD
TZOFFSETFROM:-0700
TZOFFSETTO:-0800
TZNAME:PST
DTSTART:20261101T090000
END:STANDARD
BEGIN:DAYLIGHT
TZOFFSETFROM:-0800
TZOFFSETTO:-0700
TZNAME:PDT
DTSTART:20270314T100000
END:DAYLIGHT
BEGIN:STANDARD
TZOFFSETFROM:-0700
TZOFFSETTO:-0800
TZNAME:PST
DTSTART:20271107T090000
END:STANDARD
END:VTIMEZONE
BEGIN:VEVENT
DTSTART;TZID=America/Vancouver:20260412T140000
DTEND;TZID=America/Vancouver:20260412T160000
DTSTAMP:20260420T060451
CREATED:20250727T200816Z
LAST-MODIFIED:20260317T212536Z
UID:30014183-1776002400-1776009600@fannybaycommunity.com
SUMMARY:FBCA Concert Series: Spring Fling 3
DESCRIPTION:Tickets are $25 (children under 12 are free) \nDoors open at 1:30pm \nPurchase online – fannybayhall.tickit.ca or at the door.
URL:https://fannybaycommunity.com/event/fbca-concert-series-5/
LOCATION:FBCA Community Centre
CATEGORIES:Concerts
ATTACH;FMTTYPE=image/jpeg:https://fannybaycommunity.com/wp-content/uploads/Spring-Fling-2026.jpg
END:VEVENT
BEGIN:VEVENT
DTSTART;TZID=America/Vancouver:20260412T090000
DTEND;TZID=America/Vancouver:20260412T120000
DTSTAMP:20260420T060451
CREATED:20260313T142947Z
LAST-MODIFIED:20260313T142949Z
UID:30010884-1775984400-1775995200@fannybaycommunity.com
SUMMARY:Pickleball AM
DESCRIPTION:Waitlist.
URL:https://fannybaycommunity.com/event/pickleball-2-2/2026-04-12/
LOCATION:Main Hall
CATEGORIES:Health and Fitness,Pickleball
ATTACH;FMTTYPE=image/jpeg:https://fannybaycommunity.com/wp-content/uploads/AdobeStock_454600796-scaled.jpeg
END:VEVENT
BEGIN:VEVENT
DTSTART;TZID=America/Vancouver:20260411T120000
DTEND;TZID=America/Vancouver:20260411T170000
DTSTAMP:20260420T060451
CREATED:20260315T185750Z
LAST-MODIFIED:20260315T185814Z
UID:30020865-1775908800-1775926800@fannybaycommunity.com
SUMMARY:Private Event
DESCRIPTION:
URL:https://fannybaycommunity.com/event/private-event-3/
LOCATION:Main Hall
CATEGORIES:Private Events
END:VEVENT
BEGIN:VEVENT
DTSTART;TZID=America/Vancouver:20260410T150000
DTEND;TZID=America/Vancouver:20260410T170000
DTSTAMP:20260420T060451
CREATED:20260313T142553Z
LAST-MODIFIED:20260317T222432Z
UID:30013098-1775833200-1775840400@fannybaycommunity.com
SUMMARY:Pickleball PM
DESCRIPTION:Waitlist
URL:https://fannybaycommunity.com/event/pickleball-2-2-2-3/2026-04-10/
LOCATION:Main Hall
CATEGORIES:Health and Fitness,Pickleball
ATTACH;FMTTYPE=image/jpeg:https://fannybaycommunity.com/wp-content/uploads/AdobeStock_454600796-scaled.jpeg
END:VEVENT
BEGIN:VEVENT
DTSTART;TZID=America/Vancouver:20260410T090000
DTEND;TZID=America/Vancouver:20260410T120000
DTSTAMP:20260420T060451
CREATED:20260313T142947Z
LAST-MODIFIED:20260313T142949Z
UID:30010883-1775811600-1775822400@fannybaycommunity.com
SUMMARY:Pickleball AM
DESCRIPTION:Waitlist.
URL:https://fannybaycommunity.com/event/pickleball-2-2/2026-04-10/
LOCATION:Main Hall
CATEGORIES:Health and Fitness,Pickleball
ATTACH;FMTTYPE=image/jpeg:https://fannybaycommunity.com/wp-content/uploads/AdobeStock_454600796-scaled.jpeg
END:VEVENT
BEGIN:VEVENT
DTSTART;TZID=America/Vancouver:20260409T184000
DTEND;TZID=America/Vancouver:20260409T193000
DTSTAMP:20260420T060451
CREATED:20260407T185426Z
LAST-MODIFIED:20260407T185428Z
UID:30019623-1775760000-1775763000@fannybaycommunity.com
SUMMARY:Cross Training with Megan
DESCRIPTION:
URL:https://fannybaycommunity.com/event/cross-training-with-megan-4-2/2026-04-09/
LOCATION:Studio
CATEGORIES:Health and Fitness
ORGANIZER;CN="Megan":MAILTO:meg_louisea@yahoo.com
END:VEVENT
BEGIN:VEVENT
DTSTART;TZID=America/Vancouver:20260409T173000
DTEND;TZID=America/Vancouver:20260409T183000
DTSTAMP:20260420T060451
CREATED:20260407T185629Z
LAST-MODIFIED:20260407T185629Z
UID:30019588-1775755800-1775759400@fannybaycommunity.com
SUMMARY:Cross Training with Megan
DESCRIPTION:
URL:https://fannybaycommunity.com/event/cross-training-with-megan-3-2/2026-04-09/
LOCATION:Studio
CATEGORIES:Health and Fitness
ORGANIZER;CN="Megan":MAILTO:meg_louisea@yahoo.com
END:VEVENT
BEGIN:VEVENT
DTSTART;TZID=America/Vancouver:20260409T150000
DTEND;TZID=America/Vancouver:20260409T170000
DTSTAMP:20260420T060451
CREATED:20260313T142553Z
LAST-MODIFIED:20260317T222432Z
UID:30013097-1775746800-1775754000@fannybaycommunity.com
SUMMARY:Pickleball PM
DESCRIPTION:Waitlist
URL:https://fannybaycommunity.com/event/pickleball-2-2-2-3/2026-04-09/
LOCATION:Main Hall
CATEGORIES:Health and Fitness,Pickleball
ATTACH;FMTTYPE=image/jpeg:https://fannybaycommunity.com/wp-content/uploads/AdobeStock_454600796-scaled.jpeg
END:VEVENT
BEGIN:VEVENT
DTSTART;TZID=America/Vancouver:20260409T130000
DTEND;TZID=America/Vancouver:20260409T143000
DTSTAMP:20260420T060451
CREATED:20260314T204753Z
LAST-MODIFIED:20260314T205111Z
UID:30020857-1775739600-1775745000@fannybaycommunity.com
SUMMARY:Resonation Song Circle
DESCRIPTION:
URL:https://fannybaycommunity.com/event/resonation-song-circle/2026-04-09/
LOCATION:FBCA Community Centre
CATEGORIES:Community Events
END:VEVENT
BEGIN:VEVENT
DTSTART;TZID=America/Vancouver:20260409T103000
DTEND;TZID=America/Vancouver:20260409T123000
DTSTAMP:20260420T060451
CREATED:20250219T071725Z
LAST-MODIFIED:20250219T071726Z
UID:30013938-1775730600-1775737800@fannybaycommunity.com
SUMMARY:Pickleball AM
DESCRIPTION:Waitlist
URL:https://fannybaycommunity.com/event/pickleball-am-2-2/2026-04-09/
LOCATION:Main Hall
CATEGORIES:Health and Fitness,Pickleball
ATTACH;FMTTYPE=image/jpeg:https://fannybaycommunity.com/wp-content/uploads/AdobeStock_454600796-scaled.jpeg
END:VEVENT
BEGIN:VEVENT
DTSTART;TZID=America/Vancouver:20260409T090000
DTEND;TZID=America/Vancouver:20260409T100000
DTSTAMP:20260420T060451
CREATED:20260311T171528Z
LAST-MODIFIED:20260311T171528Z
UID:30015583-1775725200-1775728800@fannybaycommunity.com
SUMMARY:Aerobics
DESCRIPTION:Details on the Programs and Activities page.
URL:https://fannybaycommunity.com/event/aerobics-2-2/2026-04-09/
LOCATION:Main Hall
CATEGORIES:Health and Fitness
END:VEVENT
BEGIN:VEVENT
DTSTART;TZID=America/Vancouver:20260408T170000
DTEND;TZID=America/Vancouver:20260408T193000
DTSTAMP:20260420T060451
CREATED:20260311T171414Z
LAST-MODIFIED:20260409T014852Z
UID:30016104-1775667600-1775676600@fannybaycommunity.com
SUMMARY:Pickleball EVE
DESCRIPTION:
URL:https://fannybaycommunity.com/event/pickleball-5/2026-04-08/
LOCATION:Main Hall
CATEGORIES:Pickleball
ORGANIZER;CN="FBCA":MAILTO:pickleball@fannybaycommunity.com
END:VEVENT
BEGIN:VEVENT
DTSTART;TZID=America/Vancouver:20260408T130000
DTEND;TZID=America/Vancouver:20260408T150000
DTSTAMP:20260420T060451
CREATED:20251004T192110Z
LAST-MODIFIED:20260111T013804Z
UID:30014258-1775653200-1775660400@fannybaycommunity.com
SUMMARY:FBCA Music Club: Acoustic Jam
DESCRIPTION:
URL:https://fannybaycommunity.com/event/fbca-music-club/2026-04-08/
LOCATION:Dining Room
CATEGORIES:Activities
END:VEVENT
BEGIN:VEVENT
DTSTART;TZID=America/Vancouver:20260408T090000
DTEND;TZID=America/Vancouver:20260408T153000
DTSTAMP:20260420T060451
CREATED:20250207T220047Z
LAST-MODIFIED:20260112T003951Z
UID:30011820-1775638800-1775662200@fannybaycommunity.com
SUMMARY:Private Function The Nurtured Learner
DESCRIPTION:
URL:https://fannybaycommunity.com/event/private-function-the-nurtured-learner/2026-04-08/
LOCATION:Studio
CATEGORIES:Private Events
END:VEVENT
BEGIN:VEVENT
DTSTART;TZID=America/Vancouver:20260407T173000
DTEND;TZID=America/Vancouver:20260407T190000
DTSTAMP:20260420T060451
CREATED:20260311T171628Z
LAST-MODIFIED:20260311T171628Z
UID:30015320-1775583000-1775588400@fannybaycommunity.com
SUMMARY:Yoga with Jane
DESCRIPTION:Contact: 250-228-1157
URL:https://fannybaycommunity.com/event/yoga-with-jane-2-2-2/2026-04-07/
LOCATION:Studio
CATEGORIES:Health and Fitness
END:VEVENT
BEGIN:VEVENT
DTSTART;TZID=America/Vancouver:20260407T150000
DTEND;TZID=America/Vancouver:20260407T170000
DTSTAMP:20260420T060451
CREATED:20260313T142553Z
LAST-MODIFIED:20260317T222432Z
UID:30013096-1775574000-1775581200@fannybaycommunity.com
SUMMARY:Pickleball PM
DESCRIPTION:Waitlist
URL:https://fannybaycommunity.com/event/pickleball-2-2-2-3/2026-04-07/
LOCATION:Main Hall
CATEGORIES:Health and Fitness,Pickleball
ATTACH;FMTTYPE=image/jpeg:https://fannybaycommunity.com/wp-content/uploads/AdobeStock_454600796-scaled.jpeg
END:VEVENT
BEGIN:VEVENT
DTSTART;TZID=America/Vancouver:20260407T093000
DTEND;TZID=America/Vancouver:20260407T103000
DTSTAMP:20260420T060451
CREATED:20251012T052837Z
LAST-MODIFIED:20251116T181857Z
UID:30014548-1775554200-1775557800@fannybaycommunity.com
SUMMARY:Yoga with Annette
DESCRIPTION:
URL:https://fannybaycommunity.com/event/yoga-with-annette/2026-04-07/
LOCATION:Studio
CATEGORIES:Health and Fitness
END:VEVENT
BEGIN:VEVENT
DTSTART;TZID=America/Vancouver:20260407T090000
DTEND;TZID=America/Vancouver:20260407T120000
DTSTAMP:20260420T060451
CREATED:20260313T142947Z
LAST-MODIFIED:20260313T142949Z
UID:30010882-1775552400-1775563200@fannybaycommunity.com
SUMMARY:Pickleball AM
DESCRIPTION:Waitlist.
URL:https://fannybaycommunity.com/event/pickleball-2-2/2026-04-07/
LOCATION:Main Hall
CATEGORIES:Health and Fitness,Pickleball
ATTACH;FMTTYPE=image/jpeg:https://fannybaycommunity.com/wp-content/uploads/AdobeStock_454600796-scaled.jpeg
END:VEVENT
BEGIN:VEVENT
DTSTART;TZID=America/Vancouver:20260406T184000
DTEND;TZID=America/Vancouver:20260406T193000
DTSTAMP:20260420T060451
CREATED:20260202T012705Z
LAST-MODIFIED:20260202T012705Z
UID:30019622-1775500800-1775503800@fannybaycommunity.com
SUMMARY:Cross Training with Megan
DESCRIPTION:
URL:https://fannybaycommunity.com/event/cross-training-with-megan-4/2026-04-06/
LOCATION:Studio
CATEGORIES:Health and Fitness
ORGANIZER;CN="Megan":MAILTO:meg_louisea@yahoo.com
END:VEVENT
BEGIN:VEVENT
DTSTART;TZID=America/Vancouver:20260406T173000
DTEND;TZID=America/Vancouver:20260406T183000
DTSTAMP:20260420T060451
CREATED:20260131T015203Z
LAST-MODIFIED:20260202T005745Z
UID:30019587-1775496600-1775500200@fannybaycommunity.com
SUMMARY:Cross Training with Megan
DESCRIPTION:
URL:https://fannybaycommunity.com/event/cross-training-with-megan-3/2026-04-06/
LOCATION:Studio
CATEGORIES:Health and Fitness
ORGANIZER;CN="Megan":MAILTO:meg_louisea@yahoo.com
END:VEVENT
BEGIN:VEVENT
DTSTART;TZID=America/Vancouver:20260406T090000
DTEND;TZID=America/Vancouver:20260406T100000
DTSTAMP:20260420T060451
CREATED:20260311T171246Z
LAST-MODIFIED:20260311T171247Z
UID:30015843-1775466000-1775469600@fannybaycommunity.com
SUMMARY:Aerobics
DESCRIPTION:Details on the Programs and Activities page.
URL:https://fannybaycommunity.com/event/aerobics-2-2-2-2-2-2/2026-04-06/
LOCATION:Main Hall
CATEGORIES:Health and Fitness
END:VEVENT
BEGIN:VEVENT
DTSTART;TZID=America/Vancouver:20260405T150000
DTEND;TZID=America/Vancouver:20260405T170000
DTSTAMP:20260420T060451
CREATED:20260313T142553Z
LAST-MODIFIED:20260317T222432Z
UID:30013095-1775401200-1775408400@fannybaycommunity.com
SUMMARY:Pickleball PM
DESCRIPTION:Waitlist
URL:https://fannybaycommunity.com/event/pickleball-2-2-2-3/2026-04-05/
LOCATION:Main Hall
CATEGORIES:Health and Fitness,Pickleball
ATTACH;FMTTYPE=image/jpeg:https://fannybaycommunity.com/wp-content/uploads/AdobeStock_454600796-scaled.jpeg
END:VEVENT
BEGIN:VEVENT
DTSTART;TZID=America/Vancouver:20260405T090000
DTEND;TZID=America/Vancouver:20260405T120000
DTSTAMP:20260420T060451
CREATED:20260313T142947Z
LAST-MODIFIED:20260313T142949Z
UID:30010881-1775379600-1775390400@fannybaycommunity.com
SUMMARY:Pickleball AM
DESCRIPTION:Waitlist.
URL:https://fannybaycommunity.com/event/pickleball-2-2/2026-04-05/
LOCATION:Main Hall
CATEGORIES:Health and Fitness,Pickleball
ATTACH;FMTTYPE=image/jpeg:https://fannybaycommunity.com/wp-content/uploads/AdobeStock_454600796-scaled.jpeg
END:VEVENT
BEGIN:VEVENT
DTSTART;TZID=America/Vancouver:20260403T150000
DTEND;TZID=America/Vancouver:20260403T170000
DTSTAMP:20260420T060451
CREATED:20260313T142553Z
LAST-MODIFIED:20260317T222432Z
UID:30013094-1775228400-1775235600@fannybaycommunity.com
SUMMARY:Pickleball PM
DESCRIPTION:Waitlist
URL:https://fannybaycommunity.com/event/pickleball-2-2-2-3/2026-04-03/
LOCATION:Main Hall
CATEGORIES:Health and Fitness,Pickleball
ATTACH;FMTTYPE=image/jpeg:https://fannybaycommunity.com/wp-content/uploads/AdobeStock_454600796-scaled.jpeg
END:VEVENT
BEGIN:VEVENT
DTSTART;TZID=America/Vancouver:20260403T090000
DTEND;TZID=America/Vancouver:20260403T120000
DTSTAMP:20260420T060451
CREATED:20260313T142947Z
LAST-MODIFIED:20260313T142949Z
UID:30010880-1775206800-1775217600@fannybaycommunity.com
SUMMARY:Pickleball AM
DESCRIPTION:Waitlist.
URL:https://fannybaycommunity.com/event/pickleball-2-2/2026-04-03/
LOCATION:Main Hall
CATEGORIES:Health and Fitness,Pickleball
ATTACH;FMTTYPE=image/jpeg:https://fannybaycommunity.com/wp-content/uploads/AdobeStock_454600796-scaled.jpeg
END:VEVENT
BEGIN:VEVENT
DTSTART;TZID=America/Vancouver:20260402T184000
DTEND;TZID=America/Vancouver:20260402T193000
DTSTAMP:20260420T060451
CREATED:20260202T012705Z
LAST-MODIFIED:20260202T012705Z
UID:30019621-1775155200-1775158200@fannybaycommunity.com
SUMMARY:Cross Training with Megan
DESCRIPTION:
URL:https://fannybaycommunity.com/event/cross-training-with-megan-4/2026-04-02/
LOCATION:Studio
CATEGORIES:Health and Fitness
ORGANIZER;CN="Megan":MAILTO:meg_louisea@yahoo.com
END:VEVENT
BEGIN:VEVENT
DTSTART;TZID=America/Vancouver:20260402T183000
DTEND;TZID=America/Vancouver:20260402T203000
DTSTAMP:20260420T060451
CREATED:20260127T021847Z
LAST-MODIFIED:20260127T024506Z
UID:30019531-1775154600-1775161800@fannybaycommunity.com
SUMMARY:Private Event
DESCRIPTION:
URL:https://fannybaycommunity.com/event/private-event/2026-04-02/
LOCATION:Main Hall
CATEGORIES:Private Events
END:VEVENT
BEGIN:VEVENT
DTSTART;TZID=America/Vancouver:20260402T173000
DTEND;TZID=America/Vancouver:20260402T203000
DTSTAMP:20260420T060451
CREATED:20260116T015820Z
LAST-MODIFIED:20260116T015820Z
UID:30019497-1775151000-1775161800@fannybaycommunity.com
SUMMARY:Wills and Estate Planning
DESCRIPTION:
URL:https://fannybaycommunity.com/event/wills-and-estate-planning/
LOCATION:Main Hall
CATEGORIES:Community Events
ORGANIZER;CN="FBCA":MAILTO:pickleball@fannybaycommunity.com
END:VEVENT
BEGIN:VEVENT
DTSTART;TZID=America/Vancouver:20260402T173000
DTEND;TZID=America/Vancouver:20260402T183000
DTSTAMP:20260420T060451
CREATED:20260131T015203Z
LAST-MODIFIED:20260202T005745Z
UID:30019586-1775151000-1775154600@fannybaycommunity.com
SUMMARY:Cross Training with Megan
DESCRIPTION:
URL:https://fannybaycommunity.com/event/cross-training-with-megan-3/2026-04-02/
LOCATION:Studio
CATEGORIES:Health and Fitness
ORGANIZER;CN="Megan":MAILTO:meg_louisea@yahoo.com
END:VEVENT
BEGIN:VEVENT
DTSTART;TZID=America/Vancouver:20260402T150000
DTEND;TZID=America/Vancouver:20260402T170000
DTSTAMP:20260420T060451
CREATED:20260313T142553Z
LAST-MODIFIED:20260317T222432Z
UID:30013093-1775142000-1775149200@fannybaycommunity.com
SUMMARY:Pickleball PM
DESCRIPTION:Waitlist
URL:https://fannybaycommunity.com/event/pickleball-2-2-2-3/2026-04-02/
LOCATION:Main Hall
CATEGORIES:Health and Fitness,Pickleball
ATTACH;FMTTYPE=image/jpeg:https://fannybaycommunity.com/wp-content/uploads/AdobeStock_454600796-scaled.jpeg
END:VEVENT
END:VCALENDAR