BEGIN:VCALENDAR
VERSION:2.0
PRODID:-//Fanny Bay Community Association - ECPv6.15.20//NONSGML v1.0//EN
CALSCALE:GREGORIAN
METHOD:PUBLISH
X-WR-CALNAME:Fanny Bay Community Association
X-ORIGINAL-URL:https://fannybaycommunity.com
X-WR-CALDESC:Events for Fanny Bay Community Association
REFRESH-INTERVAL;VALUE=DURATION:PT1H
X-Robots-Tag:noindex
X-PUBLISHED-TTL:PT1H
BEGIN:VTIMEZONE
TZID:America/Vancouver
BEGIN:DAYLIGHT
TZOFFSETFROM:-0800
TZOFFSETTO:-0700
TZNAME:PDT
DTSTART:20250309T100000
END:DAYLIGHT
BEGIN:STANDARD
TZOFFSETFROM:-0700
TZOFFSETTO:-0800
TZNAME:PST
DTSTART:20251102T090000
END:STANDARD
BEGIN:DAYLIGHT
TZOFFSETFROM:-0800
TZOFFSETTO:-0700
TZNAME:PDT
DTSTART:20260308T100000
END:DAYLIGHT
BEGIN:STANDARD
TZOFFSETFROM:-0700
TZOFFSETTO:-0800
TZNAME:PST
DTSTART:20261101T090000
END:STANDARD
BEGIN:DAYLIGHT
TZOFFSETFROM:-0800
TZOFFSETTO:-0700
TZNAME:PDT
DTSTART:20270314T100000
END:DAYLIGHT
BEGIN:STANDARD
TZOFFSETFROM:-0700
TZOFFSETTO:-0800
TZNAME:PST
DTSTART:20271107T090000
END:STANDARD
END:VTIMEZONE
BEGIN:VEVENT
DTSTART;TZID=America/Vancouver:20261008T090000
DTEND;TZID=America/Vancouver:20261008T100000
DTSTAMP:20260423T214711
CREATED:20260311T171528Z
LAST-MODIFIED:20260311T171528Z
UID:30015609-1791450000-1791453600@fannybaycommunity.com
SUMMARY:Aerobics
DESCRIPTION:Details on the Programs and Activities page.
URL:https://fannybaycommunity.com/event/aerobics-2-2/2026-10-08/
LOCATION:Main Hall
CATEGORIES:Health and Fitness
END:VEVENT
BEGIN:VEVENT
DTSTART;TZID=America/Vancouver:20261009T090000
DTEND;TZID=America/Vancouver:20261009T120000
DTSTAMP:20260423T214711
CREATED:20260205T015515Z
LAST-MODIFIED:20260409T014250Z
UID:30020343-1791536400-1791547200@fannybaycommunity.com
SUMMARY:Pickleball AM
DESCRIPTION:
URL:https://fannybaycommunity.com/event/pickleball-3/2026-10-09/
LOCATION:Main Hall
CATEGORIES:Pickleball
ORGANIZER;CN="FBCA":MAILTO:pickleball@fannybaycommunity.com
END:VEVENT
BEGIN:VEVENT
DTSTART;TZID=America/Vancouver:20261009T150000
DTEND;TZID=America/Vancouver:20261009T170000
DTSTAMP:20260423T214711
CREATED:20260205T014239Z
LAST-MODIFIED:20260409T022126Z
UID:30020040-1791558000-1791565200@fannybaycommunity.com
SUMMARY:Pickleball PM
DESCRIPTION:Waitlist
URL:https://fannybaycommunity.com/event/pickleball-2-2-2-2-2/2026-10-09/
LOCATION:Main Hall
CATEGORIES:Health and Fitness,Pickleball
ATTACH;FMTTYPE=image/jpeg:https://fannybaycommunity.com/wp-content/uploads/AdobeStock_454600796-scaled.jpeg
END:VEVENT
BEGIN:VEVENT
DTSTART;TZID=America/Vancouver:20261009T150000
DTEND;TZID=America/Vancouver:20261009T170000
DTSTAMP:20260423T214711
CREATED:20260205T015853Z
LAST-MODIFIED:20260409T014338Z
UID:30020590-1791558000-1791565200@fannybaycommunity.com
SUMMARY:Pickleball PM
DESCRIPTION:
URL:https://fannybaycommunity.com/event/pickleball-4/2026-10-09/
CATEGORIES:Pickleball
ORGANIZER;CN="FBCA":MAILTO:pickleball@fannybaycommunity.com
END:VEVENT
BEGIN:VEVENT
DTSTART;TZID=America/Vancouver:20261012T090000
DTEND;TZID=America/Vancouver:20261012T100000
DTSTAMP:20260423T214711
CREATED:20260311T171246Z
LAST-MODIFIED:20260311T171247Z
UID:30015870-1791795600-1791799200@fannybaycommunity.com
SUMMARY:Aerobics
DESCRIPTION:Details on the Programs and Activities page.
URL:https://fannybaycommunity.com/event/aerobics-2-2-2-2-2-2/2026-10-12/
LOCATION:Main Hall
CATEGORIES:Health and Fitness
END:VEVENT
BEGIN:VEVENT
DTSTART;TZID=America/Vancouver:20261013T093000
DTEND;TZID=America/Vancouver:20261013T103000
DTSTAMP:20260423T214711
CREATED:20251012T052837Z
LAST-MODIFIED:20251116T181857Z
UID:30014575-1791883800-1791887400@fannybaycommunity.com
SUMMARY:Yoga with Annette
DESCRIPTION:
URL:https://fannybaycommunity.com/event/yoga-with-annette/2026-10-13/
LOCATION:Studio
CATEGORIES:Health and Fitness
END:VEVENT
BEGIN:VEVENT
DTSTART;TZID=America/Vancouver:20261013T173000
DTEND;TZID=America/Vancouver:20261013T190000
DTSTAMP:20260423T214711
CREATED:20260311T171628Z
LAST-MODIFIED:20260311T171628Z
UID:30015347-1791912600-1791918000@fannybaycommunity.com
SUMMARY:Yoga with Jane
DESCRIPTION:Contact: 250-228-1157
URL:https://fannybaycommunity.com/event/yoga-with-jane-2-2-2/2026-10-13/
LOCATION:Studio
CATEGORIES:Health and Fitness
END:VEVENT
BEGIN:VEVENT
DTSTART;TZID=America/Vancouver:20261014T130000
DTEND;TZID=America/Vancouver:20261014T150000
DTSTAMP:20260423T214711
CREATED:20251004T192110Z
LAST-MODIFIED:20260111T013804Z
UID:30014285-1791982800-1791990000@fannybaycommunity.com
SUMMARY:FBCA Music Club: Acoustic Jam
DESCRIPTION:
URL:https://fannybaycommunity.com/event/fbca-music-club/2026-10-14/
LOCATION:Dining Room
CATEGORIES:Activities
END:VEVENT
BEGIN:VEVENT
DTSTART;TZID=America/Vancouver:20261014T170000
DTEND;TZID=America/Vancouver:20261014T193000
DTSTAMP:20260423T214711
CREATED:20260311T171414Z
LAST-MODIFIED:20260409T014852Z
UID:30016131-1791997200-1792006200@fannybaycommunity.com
SUMMARY:Pickleball EVE
DESCRIPTION:
URL:https://fannybaycommunity.com/event/pickleball-5/2026-10-14/
LOCATION:Main Hall
CATEGORIES:Pickleball
ORGANIZER;CN="FBCA":MAILTO:pickleball@fannybaycommunity.com
END:VEVENT
BEGIN:VEVENT
DTSTART;TZID=America/Vancouver:20261015T090000
DTEND;TZID=America/Vancouver:20261015T100000
DTSTAMP:20260423T214711
CREATED:20260311T171528Z
LAST-MODIFIED:20260311T171528Z
UID:30015610-1792054800-1792058400@fannybaycommunity.com
SUMMARY:Aerobics
DESCRIPTION:Details on the Programs and Activities page.
URL:https://fannybaycommunity.com/event/aerobics-2-2/2026-10-15/
LOCATION:Main Hall
CATEGORIES:Health and Fitness
END:VEVENT
BEGIN:VEVENT
DTSTART;TZID=America/Vancouver:20261015T183000
DTEND;TZID=America/Vancouver:20261015T203000
DTSTAMP:20260423T214711
CREATED:20260127T021847Z
LAST-MODIFIED:20260127T024506Z
UID:30019545-1792089000-1792096200@fannybaycommunity.com
SUMMARY:Private Event
DESCRIPTION:
URL:https://fannybaycommunity.com/event/private-event/2026-10-15/
LOCATION:Main Hall
CATEGORIES:Private Events
END:VEVENT
BEGIN:VEVENT
DTSTART;TZID=America/Vancouver:20261016T090000
DTEND;TZID=America/Vancouver:20261016T120000
DTSTAMP:20260423T214711
CREATED:20260205T015515Z
LAST-MODIFIED:20260409T014250Z
UID:30020344-1792141200-1792152000@fannybaycommunity.com
SUMMARY:Pickleball AM
DESCRIPTION:
URL:https://fannybaycommunity.com/event/pickleball-3/2026-10-16/
LOCATION:Main Hall
CATEGORIES:Pickleball
ORGANIZER;CN="FBCA":MAILTO:pickleball@fannybaycommunity.com
END:VEVENT
BEGIN:VEVENT
DTSTART;TZID=America/Vancouver:20261016T150000
DTEND;TZID=America/Vancouver:20261016T170000
DTSTAMP:20260423T214711
CREATED:20260205T014239Z
LAST-MODIFIED:20260409T022126Z
UID:30020041-1792162800-1792170000@fannybaycommunity.com
SUMMARY:Pickleball PM
DESCRIPTION:Waitlist
URL:https://fannybaycommunity.com/event/pickleball-2-2-2-2-2/2026-10-16/
LOCATION:Main Hall
CATEGORIES:Health and Fitness,Pickleball
ATTACH;FMTTYPE=image/jpeg:https://fannybaycommunity.com/wp-content/uploads/AdobeStock_454600796-scaled.jpeg
END:VEVENT
BEGIN:VEVENT
DTSTART;TZID=America/Vancouver:20261016T150000
DTEND;TZID=America/Vancouver:20261016T170000
DTSTAMP:20260423T214711
CREATED:20260205T015853Z
LAST-MODIFIED:20260409T014338Z
UID:30020591-1792162800-1792170000@fannybaycommunity.com
SUMMARY:Pickleball PM
DESCRIPTION:
URL:https://fannybaycommunity.com/event/pickleball-4/2026-10-16/
CATEGORIES:Pickleball
ORGANIZER;CN="FBCA":MAILTO:pickleball@fannybaycommunity.com
END:VEVENT
BEGIN:VEVENT
DTSTART;TZID=America/Vancouver:20261019T090000
DTEND;TZID=America/Vancouver:20261019T100000
DTSTAMP:20260423T214711
CREATED:20260311T171246Z
LAST-MODIFIED:20260311T171247Z
UID:30015871-1792400400-1792404000@fannybaycommunity.com
SUMMARY:Aerobics
DESCRIPTION:Details on the Programs and Activities page.
URL:https://fannybaycommunity.com/event/aerobics-2-2-2-2-2-2/2026-10-19/
LOCATION:Main Hall
CATEGORIES:Health and Fitness
END:VEVENT
BEGIN:VEVENT
DTSTART;TZID=America/Vancouver:20261020T093000
DTEND;TZID=America/Vancouver:20261020T103000
DTSTAMP:20260423T214711
CREATED:20251012T052837Z
LAST-MODIFIED:20251116T181857Z
UID:30014576-1792488600-1792492200@fannybaycommunity.com
SUMMARY:Yoga with Annette
DESCRIPTION:
URL:https://fannybaycommunity.com/event/yoga-with-annette/2026-10-20/
LOCATION:Studio
CATEGORIES:Health and Fitness
END:VEVENT
BEGIN:VEVENT
DTSTART;TZID=America/Vancouver:20261020T173000
DTEND;TZID=America/Vancouver:20261020T190000
DTSTAMP:20260423T214711
CREATED:20260311T171628Z
LAST-MODIFIED:20260311T171628Z
UID:30015348-1792517400-1792522800@fannybaycommunity.com
SUMMARY:Yoga with Jane
DESCRIPTION:Contact: 250-228-1157
URL:https://fannybaycommunity.com/event/yoga-with-jane-2-2-2/2026-10-20/
LOCATION:Studio
CATEGORIES:Health and Fitness
END:VEVENT
BEGIN:VEVENT
DTSTART;TZID=America/Vancouver:20261021T130000
DTEND;TZID=America/Vancouver:20261021T150000
DTSTAMP:20260423T214711
CREATED:20251004T192110Z
LAST-MODIFIED:20260111T013804Z
UID:30014286-1792587600-1792594800@fannybaycommunity.com
SUMMARY:FBCA Music Club: Acoustic Jam
DESCRIPTION:
URL:https://fannybaycommunity.com/event/fbca-music-club/2026-10-21/
LOCATION:Dining Room
CATEGORIES:Activities
END:VEVENT
BEGIN:VEVENT
DTSTART;TZID=America/Vancouver:20261021T170000
DTEND;TZID=America/Vancouver:20261021T193000
DTSTAMP:20260423T214711
CREATED:20260311T171414Z
LAST-MODIFIED:20260409T014852Z
UID:30016132-1792602000-1792611000@fannybaycommunity.com
SUMMARY:Pickleball EVE
DESCRIPTION:
URL:https://fannybaycommunity.com/event/pickleball-5/2026-10-21/
LOCATION:Main Hall
CATEGORIES:Pickleball
ORGANIZER;CN="FBCA":MAILTO:pickleball@fannybaycommunity.com
END:VEVENT
BEGIN:VEVENT
DTSTART;TZID=America/Vancouver:20261022T090000
DTEND;TZID=America/Vancouver:20261022T100000
DTSTAMP:20260423T214711
CREATED:20260311T171528Z
LAST-MODIFIED:20260311T171528Z
UID:30015611-1792659600-1792663200@fannybaycommunity.com
SUMMARY:Aerobics
DESCRIPTION:Details on the Programs and Activities page.
URL:https://fannybaycommunity.com/event/aerobics-2-2/2026-10-22/
LOCATION:Main Hall
CATEGORIES:Health and Fitness
END:VEVENT
BEGIN:VEVENT
DTSTART;TZID=America/Vancouver:20261022T190000
DTEND;TZID=America/Vancouver:20261022T210000
DTSTAMP:20260423T214711
CREATED:20260206T023147Z
LAST-MODIFIED:20260206T023147Z
UID:30020825-1792695600-1792702800@fannybaycommunity.com
SUMMARY:FBCA Board Meeting
DESCRIPTION:
URL:https://fannybaycommunity.com/event/fbca-board-meeting/2026-10-22/
LOCATION:Dining Room
CATEGORIES:Meetings
ORGANIZER;CN="FBCA":MAILTO:pickleball@fannybaycommunity.com
END:VEVENT
BEGIN:VEVENT
DTSTART;TZID=America/Vancouver:20261023T090000
DTEND;TZID=America/Vancouver:20261023T120000
DTSTAMP:20260423T214711
CREATED:20260205T015515Z
LAST-MODIFIED:20260409T014250Z
UID:30020345-1792746000-1792756800@fannybaycommunity.com
SUMMARY:Pickleball AM
DESCRIPTION:
URL:https://fannybaycommunity.com/event/pickleball-3/2026-10-23/
LOCATION:Main Hall
CATEGORIES:Pickleball
ORGANIZER;CN="FBCA":MAILTO:pickleball@fannybaycommunity.com
END:VEVENT
BEGIN:VEVENT
DTSTART;TZID=America/Vancouver:20261023T150000
DTEND;TZID=America/Vancouver:20261023T170000
DTSTAMP:20260423T214711
CREATED:20260205T014239Z
LAST-MODIFIED:20260409T022126Z
UID:30020042-1792767600-1792774800@fannybaycommunity.com
SUMMARY:Pickleball PM
DESCRIPTION:Waitlist
URL:https://fannybaycommunity.com/event/pickleball-2-2-2-2-2/2026-10-23/
LOCATION:Main Hall
CATEGORIES:Health and Fitness,Pickleball
ATTACH;FMTTYPE=image/jpeg:https://fannybaycommunity.com/wp-content/uploads/AdobeStock_454600796-scaled.jpeg
END:VEVENT
BEGIN:VEVENT
DTSTART;TZID=America/Vancouver:20261023T150000
DTEND;TZID=America/Vancouver:20261023T170000
DTSTAMP:20260423T214711
CREATED:20260205T015853Z
LAST-MODIFIED:20260409T014338Z
UID:30020592-1792767600-1792774800@fannybaycommunity.com
SUMMARY:Pickleball PM
DESCRIPTION:
URL:https://fannybaycommunity.com/event/pickleball-4/2026-10-23/
CATEGORIES:Pickleball
ORGANIZER;CN="FBCA":MAILTO:pickleball@fannybaycommunity.com
END:VEVENT
BEGIN:VEVENT
DTSTART;TZID=America/Vancouver:20261026T090000
DTEND;TZID=America/Vancouver:20261026T100000
DTSTAMP:20260423T214711
CREATED:20260311T171246Z
LAST-MODIFIED:20260311T171247Z
UID:30015872-1793005200-1793008800@fannybaycommunity.com
SUMMARY:Aerobics
DESCRIPTION:Details on the Programs and Activities page.
URL:https://fannybaycommunity.com/event/aerobics-2-2-2-2-2-2/2026-10-26/
LOCATION:Main Hall
CATEGORIES:Health and Fitness
END:VEVENT
BEGIN:VEVENT
DTSTART;TZID=America/Vancouver:20261027T093000
DTEND;TZID=America/Vancouver:20261027T103000
DTSTAMP:20260423T214711
CREATED:20251012T052837Z
LAST-MODIFIED:20251116T181857Z
UID:30014577-1793093400-1793097000@fannybaycommunity.com
SUMMARY:Yoga with Annette
DESCRIPTION:
URL:https://fannybaycommunity.com/event/yoga-with-annette/2026-10-27/
LOCATION:Studio
CATEGORIES:Health and Fitness
END:VEVENT
BEGIN:VEVENT
DTSTART;TZID=America/Vancouver:20261027T173000
DTEND;TZID=America/Vancouver:20261027T190000
DTSTAMP:20260423T214711
CREATED:20260311T171628Z
LAST-MODIFIED:20260311T171628Z
UID:30015349-1793122200-1793127600@fannybaycommunity.com
SUMMARY:Yoga with Jane
DESCRIPTION:Contact: 250-228-1157
URL:https://fannybaycommunity.com/event/yoga-with-jane-2-2-2/2026-10-27/
LOCATION:Studio
CATEGORIES:Health and Fitness
END:VEVENT
BEGIN:VEVENT
DTSTART;TZID=America/Vancouver:20261028T130000
DTEND;TZID=America/Vancouver:20261028T150000
DTSTAMP:20260423T214711
CREATED:20251004T192110Z
LAST-MODIFIED:20260111T013804Z
UID:30014287-1793192400-1793199600@fannybaycommunity.com
SUMMARY:FBCA Music Club: Acoustic Jam
DESCRIPTION:
URL:https://fannybaycommunity.com/event/fbca-music-club/2026-10-28/
LOCATION:Dining Room
CATEGORIES:Activities
END:VEVENT
BEGIN:VEVENT
DTSTART;TZID=America/Vancouver:20261028T170000
DTEND;TZID=America/Vancouver:20261028T193000
DTSTAMP:20260423T214711
CREATED:20260311T171414Z
LAST-MODIFIED:20260409T014852Z
UID:30016133-1793206800-1793215800@fannybaycommunity.com
SUMMARY:Pickleball EVE
DESCRIPTION:
URL:https://fannybaycommunity.com/event/pickleball-5/2026-10-28/
LOCATION:Main Hall
CATEGORIES:Pickleball
ORGANIZER;CN="FBCA":MAILTO:pickleball@fannybaycommunity.com
END:VEVENT
BEGIN:VEVENT
DTSTART;TZID=America/Vancouver:20261029T090000
DTEND;TZID=America/Vancouver:20261029T100000
DTSTAMP:20260423T214711
CREATED:20260311T171528Z
LAST-MODIFIED:20260311T171528Z
UID:30015612-1793264400-1793268000@fannybaycommunity.com
SUMMARY:Aerobics
DESCRIPTION:Details on the Programs and Activities page.
URL:https://fannybaycommunity.com/event/aerobics-2-2/2026-10-29/
LOCATION:Main Hall
CATEGORIES:Health and Fitness
END:VEVENT
END:VCALENDAR