BEGIN:VCALENDAR
VERSION:2.0
PRODID:-//Fanny Bay Community Association - ECPv6.15.20//NONSGML v1.0//EN
CALSCALE:GREGORIAN
METHOD:PUBLISH
X-WR-CALNAME:Fanny Bay Community Association
X-ORIGINAL-URL:https://fannybaycommunity.com
X-WR-CALDESC:Events for Fanny Bay Community Association
REFRESH-INTERVAL;VALUE=DURATION:PT1H
X-Robots-Tag:noindex
X-PUBLISHED-TTL:PT1H
BEGIN:VTIMEZONE
TZID:America/Vancouver
BEGIN:DAYLIGHT
TZOFFSETFROM:-0800
TZOFFSETTO:-0700
TZNAME:PDT
DTSTART:20250309T100000
END:DAYLIGHT
BEGIN:STANDARD
TZOFFSETFROM:-0700
TZOFFSETTO:-0800
TZNAME:PST
DTSTART:20251102T090000
END:STANDARD
BEGIN:DAYLIGHT
TZOFFSETFROM:-0800
TZOFFSETTO:-0700
TZNAME:PDT
DTSTART:20260308T100000
END:DAYLIGHT
BEGIN:STANDARD
TZOFFSETFROM:-0700
TZOFFSETTO:-0800
TZNAME:PST
DTSTART:20261101T090000
END:STANDARD
BEGIN:DAYLIGHT
TZOFFSETFROM:-0800
TZOFFSETTO:-0700
TZNAME:PDT
DTSTART:20270314T100000
END:DAYLIGHT
BEGIN:STANDARD
TZOFFSETFROM:-0700
TZOFFSETTO:-0800
TZNAME:PST
DTSTART:20271107T090000
END:STANDARD
END:VTIMEZONE
BEGIN:VEVENT
DTSTART;TZID=America/Vancouver:20260914T090000
DTEND;TZID=America/Vancouver:20260914T100000
DTSTAMP:20260423T180740
CREATED:20260311T171246Z
LAST-MODIFIED:20260311T171247Z
UID:30015866-1789376400-1789380000@fannybaycommunity.com
SUMMARY:Aerobics
DESCRIPTION:Details on the Programs and Activities page.
URL:https://fannybaycommunity.com/event/aerobics-2-2-2-2-2-2/2026-09-14/
LOCATION:Main Hall
CATEGORIES:Health and Fitness
END:VEVENT
BEGIN:VEVENT
DTSTART;TZID=America/Vancouver:20260915T093000
DTEND;TZID=America/Vancouver:20260915T103000
DTSTAMP:20260423T180741
CREATED:20251012T052837Z
LAST-MODIFIED:20251116T181857Z
UID:30014571-1789464600-1789468200@fannybaycommunity.com
SUMMARY:Yoga with Annette
DESCRIPTION:
URL:https://fannybaycommunity.com/event/yoga-with-annette/2026-09-15/
LOCATION:Studio
CATEGORIES:Health and Fitness
END:VEVENT
BEGIN:VEVENT
DTSTART;TZID=America/Vancouver:20260915T173000
DTEND;TZID=America/Vancouver:20260915T190000
DTSTAMP:20260423T180741
CREATED:20260311T171628Z
LAST-MODIFIED:20260311T171628Z
UID:30015343-1789493400-1789498800@fannybaycommunity.com
SUMMARY:Yoga with Jane
DESCRIPTION:Contact: 250-228-1157
URL:https://fannybaycommunity.com/event/yoga-with-jane-2-2-2/2026-09-15/
LOCATION:Studio
CATEGORIES:Health and Fitness
END:VEVENT
BEGIN:VEVENT
DTSTART;TZID=America/Vancouver:20260916T130000
DTEND;TZID=America/Vancouver:20260916T150000
DTSTAMP:20260423T180741
CREATED:20251004T192110Z
LAST-MODIFIED:20260111T013804Z
UID:30014281-1789563600-1789570800@fannybaycommunity.com
SUMMARY:FBCA Music Club: Acoustic Jam
DESCRIPTION:
URL:https://fannybaycommunity.com/event/fbca-music-club/2026-09-16/
LOCATION:Dining Room
CATEGORIES:Activities
END:VEVENT
BEGIN:VEVENT
DTSTART;TZID=America/Vancouver:20260916T130000
DTEND;TZID=America/Vancouver:20260916T230000
DTSTAMP:20260423T180741
CREATED:20251124T053316Z
LAST-MODIFIED:20251124T053316Z
UID:30015164-1789563600-1789599600@fannybaycommunity.com
SUMMARY:2026 Route 19A Arts Festival
DESCRIPTION:
URL:https://fannybaycommunity.com/event/2026-route-19a-arts-festival/
LOCATION:FBCA Community Centre
CATEGORIES:Concerts
END:VEVENT
BEGIN:VEVENT
DTSTART;TZID=America/Vancouver:20260916T170000
DTEND;TZID=America/Vancouver:20260916T193000
DTSTAMP:20260423T180741
CREATED:20260311T171414Z
LAST-MODIFIED:20260409T014852Z
UID:30016127-1789578000-1789587000@fannybaycommunity.com
SUMMARY:Pickleball EVE
DESCRIPTION:
URL:https://fannybaycommunity.com/event/pickleball-5/2026-09-16/
LOCATION:Main Hall
CATEGORIES:Pickleball
ORGANIZER;CN="FBCA":MAILTO:pickleball@fannybaycommunity.com
END:VEVENT
BEGIN:VEVENT
DTSTART;TZID=America/Vancouver:20260917T090000
DTEND;TZID=America/Vancouver:20260917T100000
DTSTAMP:20260423T180741
CREATED:20260311T171528Z
LAST-MODIFIED:20260311T171528Z
UID:30015606-1789635600-1789639200@fannybaycommunity.com
SUMMARY:Aerobics
DESCRIPTION:Details on the Programs and Activities page.
URL:https://fannybaycommunity.com/event/aerobics-2-2/2026-09-17/
LOCATION:Main Hall
CATEGORIES:Health and Fitness
END:VEVENT
BEGIN:VEVENT
DTSTART;TZID=America/Vancouver:20260917T183000
DTEND;TZID=America/Vancouver:20260917T203000
DTSTAMP:20260423T180741
CREATED:20260127T021847Z
LAST-MODIFIED:20260127T024506Z
UID:30019543-1789669800-1789677000@fannybaycommunity.com
SUMMARY:Private Event
DESCRIPTION:
URL:https://fannybaycommunity.com/event/private-event/2026-09-17/
LOCATION:Main Hall
CATEGORIES:Private Events
END:VEVENT
BEGIN:VEVENT
DTSTART;TZID=America/Vancouver:20260918T090000
DTEND;TZID=America/Vancouver:20260918T120000
DTSTAMP:20260423T180741
CREATED:20260205T015515Z
LAST-MODIFIED:20260409T014250Z
UID:30020340-1789722000-1789732800@fannybaycommunity.com
SUMMARY:Pickleball AM
DESCRIPTION:
URL:https://fannybaycommunity.com/event/pickleball-3/2026-09-18/
LOCATION:Main Hall
CATEGORIES:Pickleball
ORGANIZER;CN="FBCA":MAILTO:pickleball@fannybaycommunity.com
END:VEVENT
BEGIN:VEVENT
DTSTART;TZID=America/Vancouver:20260918T150000
DTEND;TZID=America/Vancouver:20260918T170000
DTSTAMP:20260423T180741
CREATED:20260205T014239Z
LAST-MODIFIED:20260409T022126Z
UID:30020037-1789743600-1789750800@fannybaycommunity.com
SUMMARY:Pickleball PM
DESCRIPTION:Waitlist
URL:https://fannybaycommunity.com/event/pickleball-2-2-2-2-2/2026-09-18/
LOCATION:Main Hall
CATEGORIES:Health and Fitness,Pickleball
ATTACH;FMTTYPE=image/jpeg:https://fannybaycommunity.com/wp-content/uploads/AdobeStock_454600796-scaled.jpeg
END:VEVENT
BEGIN:VEVENT
DTSTART;TZID=America/Vancouver:20260918T150000
DTEND;TZID=America/Vancouver:20260918T170000
DTSTAMP:20260423T180741
CREATED:20260205T015853Z
LAST-MODIFIED:20260409T014338Z
UID:30020587-1789743600-1789750800@fannybaycommunity.com
SUMMARY:Pickleball PM
DESCRIPTION:
URL:https://fannybaycommunity.com/event/pickleball-4/2026-09-18/
CATEGORIES:Pickleball
ORGANIZER;CN="FBCA":MAILTO:pickleball@fannybaycommunity.com
END:VEVENT
BEGIN:VEVENT
DTSTART;TZID=America/Vancouver:20260921T090000
DTEND;TZID=America/Vancouver:20260921T100000
DTSTAMP:20260423T180741
CREATED:20260311T171246Z
LAST-MODIFIED:20260311T171247Z
UID:30015867-1789981200-1789984800@fannybaycommunity.com
SUMMARY:Aerobics
DESCRIPTION:Details on the Programs and Activities page.
URL:https://fannybaycommunity.com/event/aerobics-2-2-2-2-2-2/2026-09-21/
LOCATION:Main Hall
CATEGORIES:Health and Fitness
END:VEVENT
BEGIN:VEVENT
DTSTART;TZID=America/Vancouver:20260922T093000
DTEND;TZID=America/Vancouver:20260922T103000
DTSTAMP:20260423T180741
CREATED:20251012T052837Z
LAST-MODIFIED:20251116T181857Z
UID:30014572-1790069400-1790073000@fannybaycommunity.com
SUMMARY:Yoga with Annette
DESCRIPTION:
URL:https://fannybaycommunity.com/event/yoga-with-annette/2026-09-22/
LOCATION:Studio
CATEGORIES:Health and Fitness
END:VEVENT
BEGIN:VEVENT
DTSTART;TZID=America/Vancouver:20260922T173000
DTEND;TZID=America/Vancouver:20260922T190000
DTSTAMP:20260423T180741
CREATED:20260311T171628Z
LAST-MODIFIED:20260311T171628Z
UID:30015344-1790098200-1790103600@fannybaycommunity.com
SUMMARY:Yoga with Jane
DESCRIPTION:Contact: 250-228-1157
URL:https://fannybaycommunity.com/event/yoga-with-jane-2-2-2/2026-09-22/
LOCATION:Studio
CATEGORIES:Health and Fitness
END:VEVENT
BEGIN:VEVENT
DTSTART;TZID=America/Vancouver:20260923T130000
DTEND;TZID=America/Vancouver:20260923T150000
DTSTAMP:20260423T180741
CREATED:20251004T192110Z
LAST-MODIFIED:20260111T013804Z
UID:30014282-1790168400-1790175600@fannybaycommunity.com
SUMMARY:FBCA Music Club: Acoustic Jam
DESCRIPTION:
URL:https://fannybaycommunity.com/event/fbca-music-club/2026-09-23/
LOCATION:Dining Room
CATEGORIES:Activities
END:VEVENT
BEGIN:VEVENT
DTSTART;TZID=America/Vancouver:20260923T170000
DTEND;TZID=America/Vancouver:20260923T193000
DTSTAMP:20260423T180741
CREATED:20260311T171414Z
LAST-MODIFIED:20260409T014852Z
UID:30016128-1790182800-1790191800@fannybaycommunity.com
SUMMARY:Pickleball EVE
DESCRIPTION:
URL:https://fannybaycommunity.com/event/pickleball-5/2026-09-23/
LOCATION:Main Hall
CATEGORIES:Pickleball
ORGANIZER;CN="FBCA":MAILTO:pickleball@fannybaycommunity.com
END:VEVENT
BEGIN:VEVENT
DTSTART;TZID=America/Vancouver:20260924T090000
DTEND;TZID=America/Vancouver:20260924T100000
DTSTAMP:20260423T180741
CREATED:20260311T171528Z
LAST-MODIFIED:20260311T171528Z
UID:30015607-1790240400-1790244000@fannybaycommunity.com
SUMMARY:Aerobics
DESCRIPTION:Details on the Programs and Activities page.
URL:https://fannybaycommunity.com/event/aerobics-2-2/2026-09-24/
LOCATION:Main Hall
CATEGORIES:Health and Fitness
END:VEVENT
BEGIN:VEVENT
DTSTART;TZID=America/Vancouver:20260924T190000
DTEND;TZID=America/Vancouver:20260924T210000
DTSTAMP:20260423T180741
CREATED:20260206T023147Z
LAST-MODIFIED:20260206T023147Z
UID:30020824-1790276400-1790283600@fannybaycommunity.com
SUMMARY:FBCA Board Meeting
DESCRIPTION:
URL:https://fannybaycommunity.com/event/fbca-board-meeting/2026-09-24/
LOCATION:Dining Room
CATEGORIES:Meetings
ORGANIZER;CN="FBCA":MAILTO:pickleball@fannybaycommunity.com
END:VEVENT
BEGIN:VEVENT
DTSTART;TZID=America/Vancouver:20260925T090000
DTEND;TZID=America/Vancouver:20260925T120000
DTSTAMP:20260423T180741
CREATED:20260205T015515Z
LAST-MODIFIED:20260409T014250Z
UID:30020341-1790326800-1790337600@fannybaycommunity.com
SUMMARY:Pickleball AM
DESCRIPTION:
URL:https://fannybaycommunity.com/event/pickleball-3/2026-09-25/
LOCATION:Main Hall
CATEGORIES:Pickleball
ORGANIZER;CN="FBCA":MAILTO:pickleball@fannybaycommunity.com
END:VEVENT
BEGIN:VEVENT
DTSTART;TZID=America/Vancouver:20260925T150000
DTEND;TZID=America/Vancouver:20260925T170000
DTSTAMP:20260423T180741
CREATED:20260205T014239Z
LAST-MODIFIED:20260409T022126Z
UID:30020038-1790348400-1790355600@fannybaycommunity.com
SUMMARY:Pickleball PM
DESCRIPTION:Waitlist
URL:https://fannybaycommunity.com/event/pickleball-2-2-2-2-2/2026-09-25/
LOCATION:Main Hall
CATEGORIES:Health and Fitness,Pickleball
ATTACH;FMTTYPE=image/jpeg:https://fannybaycommunity.com/wp-content/uploads/AdobeStock_454600796-scaled.jpeg
END:VEVENT
BEGIN:VEVENT
DTSTART;TZID=America/Vancouver:20260925T150000
DTEND;TZID=America/Vancouver:20260925T170000
DTSTAMP:20260423T180741
CREATED:20260205T015853Z
LAST-MODIFIED:20260409T014338Z
UID:30020588-1790348400-1790355600@fannybaycommunity.com
SUMMARY:Pickleball PM
DESCRIPTION:
URL:https://fannybaycommunity.com/event/pickleball-4/2026-09-25/
CATEGORIES:Pickleball
ORGANIZER;CN="FBCA":MAILTO:pickleball@fannybaycommunity.com
END:VEVENT
BEGIN:VEVENT
DTSTART;TZID=America/Vancouver:20260928T090000
DTEND;TZID=America/Vancouver:20260928T100000
DTSTAMP:20260423T180741
CREATED:20260311T171246Z
LAST-MODIFIED:20260311T171247Z
UID:30015868-1790586000-1790589600@fannybaycommunity.com
SUMMARY:Aerobics
DESCRIPTION:Details on the Programs and Activities page.
URL:https://fannybaycommunity.com/event/aerobics-2-2-2-2-2-2/2026-09-28/
LOCATION:Main Hall
CATEGORIES:Health and Fitness
END:VEVENT
BEGIN:VEVENT
DTSTART;TZID=America/Vancouver:20260929T093000
DTEND;TZID=America/Vancouver:20260929T103000
DTSTAMP:20260423T180741
CREATED:20251012T052837Z
LAST-MODIFIED:20251116T181857Z
UID:30014573-1790674200-1790677800@fannybaycommunity.com
SUMMARY:Yoga with Annette
DESCRIPTION:
URL:https://fannybaycommunity.com/event/yoga-with-annette/2026-09-29/
LOCATION:Studio
CATEGORIES:Health and Fitness
END:VEVENT
BEGIN:VEVENT
DTSTART;TZID=America/Vancouver:20260929T173000
DTEND;TZID=America/Vancouver:20260929T190000
DTSTAMP:20260423T180741
CREATED:20260311T171628Z
LAST-MODIFIED:20260311T171628Z
UID:30015345-1790703000-1790708400@fannybaycommunity.com
SUMMARY:Yoga with Jane
DESCRIPTION:Contact: 250-228-1157
URL:https://fannybaycommunity.com/event/yoga-with-jane-2-2-2/2026-09-29/
LOCATION:Studio
CATEGORIES:Health and Fitness
END:VEVENT
BEGIN:VEVENT
DTSTART;TZID=America/Vancouver:20260930T130000
DTEND;TZID=America/Vancouver:20260930T150000
DTSTAMP:20260423T180741
CREATED:20251004T192110Z
LAST-MODIFIED:20260111T013804Z
UID:30014283-1790773200-1790780400@fannybaycommunity.com
SUMMARY:FBCA Music Club: Acoustic Jam
DESCRIPTION:
URL:https://fannybaycommunity.com/event/fbca-music-club/2026-09-30/
LOCATION:Dining Room
CATEGORIES:Activities
END:VEVENT
BEGIN:VEVENT
DTSTART;TZID=America/Vancouver:20260930T170000
DTEND;TZID=America/Vancouver:20260930T193000
DTSTAMP:20260423T180741
CREATED:20260311T171414Z
LAST-MODIFIED:20260409T014852Z
UID:30016129-1790787600-1790796600@fannybaycommunity.com
SUMMARY:Pickleball EVE
DESCRIPTION:
URL:https://fannybaycommunity.com/event/pickleball-5/2026-09-30/
LOCATION:Main Hall
CATEGORIES:Pickleball
ORGANIZER;CN="FBCA":MAILTO:pickleball@fannybaycommunity.com
END:VEVENT
BEGIN:VEVENT
DTSTART;TZID=America/Vancouver:20261001T090000
DTEND;TZID=America/Vancouver:20261001T100000
DTSTAMP:20260423T180741
CREATED:20260311T171528Z
LAST-MODIFIED:20260311T171528Z
UID:30015608-1790845200-1790848800@fannybaycommunity.com
SUMMARY:Aerobics
DESCRIPTION:Details on the Programs and Activities page.
URL:https://fannybaycommunity.com/event/aerobics-2-2/2026-10-01/
LOCATION:Main Hall
CATEGORIES:Health and Fitness
END:VEVENT
BEGIN:VEVENT
DTSTART;TZID=America/Vancouver:20261001T183000
DTEND;TZID=America/Vancouver:20261001T203000
DTSTAMP:20260423T180741
CREATED:20260127T021847Z
LAST-MODIFIED:20260127T024506Z
UID:30019544-1790879400-1790886600@fannybaycommunity.com
SUMMARY:Private Event
DESCRIPTION:
URL:https://fannybaycommunity.com/event/private-event/2026-10-01/
LOCATION:Main Hall
CATEGORIES:Private Events
END:VEVENT
BEGIN:VEVENT
DTSTART;TZID=America/Vancouver:20261002T090000
DTEND;TZID=America/Vancouver:20261002T120000
DTSTAMP:20260423T180741
CREATED:20260205T015515Z
LAST-MODIFIED:20260409T014250Z
UID:30020342-1790931600-1790942400@fannybaycommunity.com
SUMMARY:Pickleball AM
DESCRIPTION:
URL:https://fannybaycommunity.com/event/pickleball-3/2026-10-02/
LOCATION:Main Hall
CATEGORIES:Pickleball
ORGANIZER;CN="FBCA":MAILTO:pickleball@fannybaycommunity.com
END:VEVENT
BEGIN:VEVENT
DTSTART;TZID=America/Vancouver:20261002T150000
DTEND;TZID=America/Vancouver:20261002T170000
DTSTAMP:20260423T180741
CREATED:20260205T014239Z
LAST-MODIFIED:20260409T022126Z
UID:30020039-1790953200-1790960400@fannybaycommunity.com
SUMMARY:Pickleball PM
DESCRIPTION:Waitlist
URL:https://fannybaycommunity.com/event/pickleball-2-2-2-2-2/2026-10-02/
LOCATION:Main Hall
CATEGORIES:Health and Fitness,Pickleball
ATTACH;FMTTYPE=image/jpeg:https://fannybaycommunity.com/wp-content/uploads/AdobeStock_454600796-scaled.jpeg
END:VEVENT
END:VCALENDAR