BEGIN:VCALENDAR
VERSION:2.0
PRODID:-//Fanny Bay Community Association - ECPv6.15.20//NONSGML v1.0//EN
CALSCALE:GREGORIAN
METHOD:PUBLISH
X-ORIGINAL-URL:https://fannybaycommunity.com
X-WR-CALDESC:Events for Fanny Bay Community Association
REFRESH-INTERVAL;VALUE=DURATION:PT1H
X-Robots-Tag:noindex
X-PUBLISHED-TTL:PT1H
BEGIN:VTIMEZONE
TZID:America/Vancouver
BEGIN:DAYLIGHT
TZOFFSETFROM:-0800
TZOFFSETTO:-0700
TZNAME:PDT
DTSTART:20250309T100000
END:DAYLIGHT
BEGIN:STANDARD
TZOFFSETFROM:-0700
TZOFFSETTO:-0800
TZNAME:PST
DTSTART:20251102T090000
END:STANDARD
BEGIN:DAYLIGHT
TZOFFSETFROM:-0800
TZOFFSETTO:-0700
TZNAME:PDT
DTSTART:20260308T100000
END:DAYLIGHT
BEGIN:STANDARD
TZOFFSETFROM:-0700
TZOFFSETTO:-0800
TZNAME:PST
DTSTART:20261101T090000
END:STANDARD
BEGIN:DAYLIGHT
TZOFFSETFROM:-0800
TZOFFSETTO:-0700
TZNAME:PDT
DTSTART:20270314T100000
END:DAYLIGHT
BEGIN:STANDARD
TZOFFSETFROM:-0700
TZOFFSETTO:-0800
TZNAME:PST
DTSTART:20271107T090000
END:STANDARD
END:VTIMEZONE
BEGIN:VEVENT
DTSTART;TZID=America/Vancouver:20260710T150000
DTEND;TZID=America/Vancouver:20260710T170000
DTSTAMP:20260423T074300
CREATED:20260205T014239Z
LAST-MODIFIED:20260409T022126Z
UID:30020027-1783695600-1783702800@fannybaycommunity.com
SUMMARY:Pickleball PM
DESCRIPTION:Waitlist
URL:https://fannybaycommunity.com/event/pickleball-2-2-2-2-2/2026-07-10/
LOCATION:Main Hall
CATEGORIES:Health and Fitness,Pickleball
ATTACH;FMTTYPE=image/jpeg:https://fannybaycommunity.com/wp-content/uploads/AdobeStock_454600796-scaled.jpeg
END:VEVENT
BEGIN:VEVENT
DTSTART;TZID=America/Vancouver:20260710T150000
DTEND;TZID=America/Vancouver:20260710T170000
DTSTAMP:20260423T074300
CREATED:20260205T015853Z
LAST-MODIFIED:20260409T014338Z
UID:30020577-1783695600-1783702800@fannybaycommunity.com
SUMMARY:Pickleball PM
DESCRIPTION:
URL:https://fannybaycommunity.com/event/pickleball-4/2026-07-10/
CATEGORIES:Pickleball
ORGANIZER;CN="FBCA":MAILTO:pickleball@fannybaycommunity.com
END:VEVENT
BEGIN:VEVENT
DTSTART;TZID=America/Vancouver:20260715T170000
DTEND;TZID=America/Vancouver:20260715T193000
DTSTAMP:20260423T074300
CREATED:20260311T171414Z
LAST-MODIFIED:20260409T014852Z
UID:30016118-1784134800-1784143800@fannybaycommunity.com
SUMMARY:Pickleball EVE
DESCRIPTION:
URL:https://fannybaycommunity.com/event/pickleball-5/2026-07-15/
LOCATION:Main Hall
CATEGORIES:Pickleball
ORGANIZER;CN="FBCA":MAILTO:pickleball@fannybaycommunity.com
END:VEVENT
BEGIN:VEVENT
DTSTART;TZID=America/Vancouver:20260717T090000
DTEND;TZID=America/Vancouver:20260717T120000
DTSTAMP:20260423T074300
CREATED:20260205T015515Z
LAST-MODIFIED:20260409T014250Z
UID:30020331-1784278800-1784289600@fannybaycommunity.com
SUMMARY:Pickleball AM
DESCRIPTION:
URL:https://fannybaycommunity.com/event/pickleball-3/2026-07-17/
LOCATION:Main Hall
CATEGORIES:Pickleball
ORGANIZER;CN="FBCA":MAILTO:pickleball@fannybaycommunity.com
END:VEVENT
BEGIN:VEVENT
DTSTART;TZID=America/Vancouver:20260717T150000
DTEND;TZID=America/Vancouver:20260717T170000
DTSTAMP:20260423T074300
CREATED:20260205T014239Z
LAST-MODIFIED:20260409T022126Z
UID:30020028-1784300400-1784307600@fannybaycommunity.com
SUMMARY:Pickleball PM
DESCRIPTION:Waitlist
URL:https://fannybaycommunity.com/event/pickleball-2-2-2-2-2/2026-07-17/
LOCATION:Main Hall
CATEGORIES:Health and Fitness,Pickleball
ATTACH;FMTTYPE=image/jpeg:https://fannybaycommunity.com/wp-content/uploads/AdobeStock_454600796-scaled.jpeg
END:VEVENT
BEGIN:VEVENT
DTSTART;TZID=America/Vancouver:20260717T150000
DTEND;TZID=America/Vancouver:20260717T170000
DTSTAMP:20260423T074300
CREATED:20260205T015853Z
LAST-MODIFIED:20260409T014338Z
UID:30020578-1784300400-1784307600@fannybaycommunity.com
SUMMARY:Pickleball PM
DESCRIPTION:
URL:https://fannybaycommunity.com/event/pickleball-4/2026-07-17/
CATEGORIES:Pickleball
ORGANIZER;CN="FBCA":MAILTO:pickleball@fannybaycommunity.com
END:VEVENT
BEGIN:VEVENT
DTSTART;TZID=America/Vancouver:20260722T170000
DTEND;TZID=America/Vancouver:20260722T193000
DTSTAMP:20260423T074300
CREATED:20260311T171414Z
LAST-MODIFIED:20260409T014852Z
UID:30016119-1784739600-1784748600@fannybaycommunity.com
SUMMARY:Pickleball EVE
DESCRIPTION:
URL:https://fannybaycommunity.com/event/pickleball-5/2026-07-22/
LOCATION:Main Hall
CATEGORIES:Pickleball
ORGANIZER;CN="FBCA":MAILTO:pickleball@fannybaycommunity.com
END:VEVENT
BEGIN:VEVENT
DTSTART;TZID=America/Vancouver:20260724T090000
DTEND;TZID=America/Vancouver:20260724T120000
DTSTAMP:20260423T074300
CREATED:20260205T015515Z
LAST-MODIFIED:20260409T014250Z
UID:30020332-1784883600-1784894400@fannybaycommunity.com
SUMMARY:Pickleball AM
DESCRIPTION:
URL:https://fannybaycommunity.com/event/pickleball-3/2026-07-24/
LOCATION:Main Hall
CATEGORIES:Pickleball
ORGANIZER;CN="FBCA":MAILTO:pickleball@fannybaycommunity.com
END:VEVENT
BEGIN:VEVENT
DTSTART;TZID=America/Vancouver:20260724T150000
DTEND;TZID=America/Vancouver:20260724T170000
DTSTAMP:20260423T074300
CREATED:20260205T014239Z
LAST-MODIFIED:20260409T022126Z
UID:30020029-1784905200-1784912400@fannybaycommunity.com
SUMMARY:Pickleball PM
DESCRIPTION:Waitlist
URL:https://fannybaycommunity.com/event/pickleball-2-2-2-2-2/2026-07-24/
LOCATION:Main Hall
CATEGORIES:Health and Fitness,Pickleball
ATTACH;FMTTYPE=image/jpeg:https://fannybaycommunity.com/wp-content/uploads/AdobeStock_454600796-scaled.jpeg
END:VEVENT
BEGIN:VEVENT
DTSTART;TZID=America/Vancouver:20260724T150000
DTEND;TZID=America/Vancouver:20260724T170000
DTSTAMP:20260423T074300
CREATED:20260205T015853Z
LAST-MODIFIED:20260409T014338Z
UID:30020579-1784905200-1784912400@fannybaycommunity.com
SUMMARY:Pickleball PM
DESCRIPTION:
URL:https://fannybaycommunity.com/event/pickleball-4/2026-07-24/
CATEGORIES:Pickleball
ORGANIZER;CN="FBCA":MAILTO:pickleball@fannybaycommunity.com
END:VEVENT
BEGIN:VEVENT
DTSTART;TZID=America/Vancouver:20260729T170000
DTEND;TZID=America/Vancouver:20260729T193000
DTSTAMP:20260423T074300
CREATED:20260311T171414Z
LAST-MODIFIED:20260409T014852Z
UID:30016120-1785344400-1785353400@fannybaycommunity.com
SUMMARY:Pickleball EVE
DESCRIPTION:
URL:https://fannybaycommunity.com/event/pickleball-5/2026-07-29/
LOCATION:Main Hall
CATEGORIES:Pickleball
ORGANIZER;CN="FBCA":MAILTO:pickleball@fannybaycommunity.com
END:VEVENT
BEGIN:VEVENT
DTSTART;TZID=America/Vancouver:20260731T090000
DTEND;TZID=America/Vancouver:20260731T120000
DTSTAMP:20260423T074300
CREATED:20260205T015515Z
LAST-MODIFIED:20260409T014250Z
UID:30020333-1785488400-1785499200@fannybaycommunity.com
SUMMARY:Pickleball AM
DESCRIPTION:
URL:https://fannybaycommunity.com/event/pickleball-3/2026-07-31/
LOCATION:Main Hall
CATEGORIES:Pickleball
ORGANIZER;CN="FBCA":MAILTO:pickleball@fannybaycommunity.com
END:VEVENT
BEGIN:VEVENT
DTSTART;TZID=America/Vancouver:20260731T150000
DTEND;TZID=America/Vancouver:20260731T170000
DTSTAMP:20260423T074300
CREATED:20260205T014239Z
LAST-MODIFIED:20260409T022126Z
UID:30020030-1785510000-1785517200@fannybaycommunity.com
SUMMARY:Pickleball PM
DESCRIPTION:Waitlist
URL:https://fannybaycommunity.com/event/pickleball-2-2-2-2-2/2026-07-31/
LOCATION:Main Hall
CATEGORIES:Health and Fitness,Pickleball
ATTACH;FMTTYPE=image/jpeg:https://fannybaycommunity.com/wp-content/uploads/AdobeStock_454600796-scaled.jpeg
END:VEVENT
BEGIN:VEVENT
DTSTART;TZID=America/Vancouver:20260731T150000
DTEND;TZID=America/Vancouver:20260731T170000
DTSTAMP:20260423T074300
CREATED:20260205T015853Z
LAST-MODIFIED:20260409T014338Z
UID:30020580-1785510000-1785517200@fannybaycommunity.com
SUMMARY:Pickleball PM
DESCRIPTION:
URL:https://fannybaycommunity.com/event/pickleball-4/2026-07-31/
CATEGORIES:Pickleball
ORGANIZER;CN="FBCA":MAILTO:pickleball@fannybaycommunity.com
END:VEVENT
BEGIN:VEVENT
DTSTART;TZID=America/Vancouver:20260807T090000
DTEND;TZID=America/Vancouver:20260807T120000
DTSTAMP:20260423T074300
CREATED:20260205T015515Z
LAST-MODIFIED:20260409T014250Z
UID:30020334-1786093200-1786104000@fannybaycommunity.com
SUMMARY:Pickleball AM
DESCRIPTION:
URL:https://fannybaycommunity.com/event/pickleball-3/2026-08-07/
LOCATION:Main Hall
CATEGORIES:Pickleball
ORGANIZER;CN="FBCA":MAILTO:pickleball@fannybaycommunity.com
END:VEVENT
BEGIN:VEVENT
DTSTART;TZID=America/Vancouver:20260807T150000
DTEND;TZID=America/Vancouver:20260807T170000
DTSTAMP:20260423T074300
CREATED:20260205T014239Z
LAST-MODIFIED:20260409T022126Z
UID:30020031-1786114800-1786122000@fannybaycommunity.com
SUMMARY:Pickleball PM
DESCRIPTION:Waitlist
URL:https://fannybaycommunity.com/event/pickleball-2-2-2-2-2/2026-08-07/
LOCATION:Main Hall
CATEGORIES:Health and Fitness,Pickleball
ATTACH;FMTTYPE=image/jpeg:https://fannybaycommunity.com/wp-content/uploads/AdobeStock_454600796-scaled.jpeg
END:VEVENT
BEGIN:VEVENT
DTSTART;TZID=America/Vancouver:20260807T150000
DTEND;TZID=America/Vancouver:20260807T170000
DTSTAMP:20260423T074300
CREATED:20260205T015853Z
LAST-MODIFIED:20260409T014338Z
UID:30020581-1786114800-1786122000@fannybaycommunity.com
SUMMARY:Pickleball PM
DESCRIPTION:
URL:https://fannybaycommunity.com/event/pickleball-4/2026-08-07/
CATEGORIES:Pickleball
ORGANIZER;CN="FBCA":MAILTO:pickleball@fannybaycommunity.com
END:VEVENT
BEGIN:VEVENT
DTSTART;TZID=America/Vancouver:20260812T170000
DTEND;TZID=America/Vancouver:20260812T193000
DTSTAMP:20260423T074300
CREATED:20260311T171414Z
LAST-MODIFIED:20260409T014852Z
UID:30016122-1786554000-1786563000@fannybaycommunity.com
SUMMARY:Pickleball EVE
DESCRIPTION:
URL:https://fannybaycommunity.com/event/pickleball-5/2026-08-12/
LOCATION:Main Hall
CATEGORIES:Pickleball
ORGANIZER;CN="FBCA":MAILTO:pickleball@fannybaycommunity.com
END:VEVENT
BEGIN:VEVENT
DTSTART;TZID=America/Vancouver:20260814T090000
DTEND;TZID=America/Vancouver:20260814T120000
DTSTAMP:20260423T074300
CREATED:20260205T015515Z
LAST-MODIFIED:20260409T014250Z
UID:30020335-1786698000-1786708800@fannybaycommunity.com
SUMMARY:Pickleball AM
DESCRIPTION:
URL:https://fannybaycommunity.com/event/pickleball-3/2026-08-14/
LOCATION:Main Hall
CATEGORIES:Pickleball
ORGANIZER;CN="FBCA":MAILTO:pickleball@fannybaycommunity.com
END:VEVENT
BEGIN:VEVENT
DTSTART;TZID=America/Vancouver:20260814T150000
DTEND;TZID=America/Vancouver:20260814T170000
DTSTAMP:20260423T074300
CREATED:20260205T014239Z
LAST-MODIFIED:20260409T022126Z
UID:30020032-1786719600-1786726800@fannybaycommunity.com
SUMMARY:Pickleball PM
DESCRIPTION:Waitlist
URL:https://fannybaycommunity.com/event/pickleball-2-2-2-2-2/2026-08-14/
LOCATION:Main Hall
CATEGORIES:Health and Fitness,Pickleball
ATTACH;FMTTYPE=image/jpeg:https://fannybaycommunity.com/wp-content/uploads/AdobeStock_454600796-scaled.jpeg
END:VEVENT
BEGIN:VEVENT
DTSTART;TZID=America/Vancouver:20260814T150000
DTEND;TZID=America/Vancouver:20260814T170000
DTSTAMP:20260423T074300
CREATED:20260205T015853Z
LAST-MODIFIED:20260409T014338Z
UID:30020582-1786719600-1786726800@fannybaycommunity.com
SUMMARY:Pickleball PM
DESCRIPTION:
URL:https://fannybaycommunity.com/event/pickleball-4/2026-08-14/
CATEGORIES:Pickleball
ORGANIZER;CN="FBCA":MAILTO:pickleball@fannybaycommunity.com
END:VEVENT
BEGIN:VEVENT
DTSTART;TZID=America/Vancouver:20260819T170000
DTEND;TZID=America/Vancouver:20260819T193000
DTSTAMP:20260423T074300
CREATED:20260311T171414Z
LAST-MODIFIED:20260409T014852Z
UID:30016123-1787158800-1787167800@fannybaycommunity.com
SUMMARY:Pickleball EVE
DESCRIPTION:
URL:https://fannybaycommunity.com/event/pickleball-5/2026-08-19/
LOCATION:Main Hall
CATEGORIES:Pickleball
ORGANIZER;CN="FBCA":MAILTO:pickleball@fannybaycommunity.com
END:VEVENT
BEGIN:VEVENT
DTSTART;TZID=America/Vancouver:20260821T090000
DTEND;TZID=America/Vancouver:20260821T120000
DTSTAMP:20260423T074300
CREATED:20260205T015515Z
LAST-MODIFIED:20260409T014250Z
UID:30020336-1787302800-1787313600@fannybaycommunity.com
SUMMARY:Pickleball AM
DESCRIPTION:
URL:https://fannybaycommunity.com/event/pickleball-3/2026-08-21/
LOCATION:Main Hall
CATEGORIES:Pickleball
ORGANIZER;CN="FBCA":MAILTO:pickleball@fannybaycommunity.com
END:VEVENT
BEGIN:VEVENT
DTSTART;TZID=America/Vancouver:20260821T150000
DTEND;TZID=America/Vancouver:20260821T170000
DTSTAMP:20260423T074300
CREATED:20260205T014239Z
LAST-MODIFIED:20260409T022126Z
UID:30020033-1787324400-1787331600@fannybaycommunity.com
SUMMARY:Pickleball PM
DESCRIPTION:Waitlist
URL:https://fannybaycommunity.com/event/pickleball-2-2-2-2-2/2026-08-21/
LOCATION:Main Hall
CATEGORIES:Health and Fitness,Pickleball
ATTACH;FMTTYPE=image/jpeg:https://fannybaycommunity.com/wp-content/uploads/AdobeStock_454600796-scaled.jpeg
END:VEVENT
BEGIN:VEVENT
DTSTART;TZID=America/Vancouver:20260821T150000
DTEND;TZID=America/Vancouver:20260821T170000
DTSTAMP:20260423T074300
CREATED:20260205T015853Z
LAST-MODIFIED:20260409T014338Z
UID:30020583-1787324400-1787331600@fannybaycommunity.com
SUMMARY:Pickleball PM
DESCRIPTION:
URL:https://fannybaycommunity.com/event/pickleball-4/2026-08-21/
CATEGORIES:Pickleball
ORGANIZER;CN="FBCA":MAILTO:pickleball@fannybaycommunity.com
END:VEVENT
BEGIN:VEVENT
DTSTART;TZID=America/Vancouver:20260826T170000
DTEND;TZID=America/Vancouver:20260826T193000
DTSTAMP:20260423T074300
CREATED:20260311T171414Z
LAST-MODIFIED:20260409T014852Z
UID:30016124-1787763600-1787772600@fannybaycommunity.com
SUMMARY:Pickleball EVE
DESCRIPTION:
URL:https://fannybaycommunity.com/event/pickleball-5/2026-08-26/
LOCATION:Main Hall
CATEGORIES:Pickleball
ORGANIZER;CN="FBCA":MAILTO:pickleball@fannybaycommunity.com
END:VEVENT
BEGIN:VEVENT
DTSTART;TZID=America/Vancouver:20260828T090000
DTEND;TZID=America/Vancouver:20260828T120000
DTSTAMP:20260423T074300
CREATED:20260205T015515Z
LAST-MODIFIED:20260409T014250Z
UID:30020337-1787907600-1787918400@fannybaycommunity.com
SUMMARY:Pickleball AM
DESCRIPTION:
URL:https://fannybaycommunity.com/event/pickleball-3/2026-08-28/
LOCATION:Main Hall
CATEGORIES:Pickleball
ORGANIZER;CN="FBCA":MAILTO:pickleball@fannybaycommunity.com
END:VEVENT
BEGIN:VEVENT
DTSTART;TZID=America/Vancouver:20260828T150000
DTEND;TZID=America/Vancouver:20260828T170000
DTSTAMP:20260423T074300
CREATED:20260205T014239Z
LAST-MODIFIED:20260409T022126Z
UID:30020034-1787929200-1787936400@fannybaycommunity.com
SUMMARY:Pickleball PM
DESCRIPTION:Waitlist
URL:https://fannybaycommunity.com/event/pickleball-2-2-2-2-2/2026-08-28/
LOCATION:Main Hall
CATEGORIES:Health and Fitness,Pickleball
ATTACH;FMTTYPE=image/jpeg:https://fannybaycommunity.com/wp-content/uploads/AdobeStock_454600796-scaled.jpeg
END:VEVENT
BEGIN:VEVENT
DTSTART;TZID=America/Vancouver:20260828T150000
DTEND;TZID=America/Vancouver:20260828T170000
DTSTAMP:20260423T074300
CREATED:20260205T015853Z
LAST-MODIFIED:20260409T014338Z
UID:30020584-1787929200-1787936400@fannybaycommunity.com
SUMMARY:Pickleball PM
DESCRIPTION:
URL:https://fannybaycommunity.com/event/pickleball-4/2026-08-28/
CATEGORIES:Pickleball
ORGANIZER;CN="FBCA":MAILTO:pickleball@fannybaycommunity.com
END:VEVENT
BEGIN:VEVENT
DTSTART;TZID=America/Vancouver:20260904T090000
DTEND;TZID=America/Vancouver:20260904T120000
DTSTAMP:20260423T074300
CREATED:20260205T015515Z
LAST-MODIFIED:20260409T014250Z
UID:30020338-1788512400-1788523200@fannybaycommunity.com
SUMMARY:Pickleball AM
DESCRIPTION:
URL:https://fannybaycommunity.com/event/pickleball-3/2026-09-04/
LOCATION:Main Hall
CATEGORIES:Pickleball
ORGANIZER;CN="FBCA":MAILTO:pickleball@fannybaycommunity.com
END:VEVENT
END:VCALENDAR