BEGIN:VCALENDAR
VERSION:2.0
PRODID:-//Fanny Bay Community Association - ECPv6.15.20//NONSGML v1.0//EN
CALSCALE:GREGORIAN
METHOD:PUBLISH
X-ORIGINAL-URL:https://fannybaycommunity.com
X-WR-CALDESC:Events for Fanny Bay Community Association
REFRESH-INTERVAL;VALUE=DURATION:PT1H
X-Robots-Tag:noindex
X-PUBLISHED-TTL:PT1H
BEGIN:VTIMEZONE
TZID:America/Vancouver
BEGIN:DAYLIGHT
TZOFFSETFROM:-0800
TZOFFSETTO:-0700
TZNAME:PDT
DTSTART:20250309T100000
END:DAYLIGHT
BEGIN:STANDARD
TZOFFSETFROM:-0700
TZOFFSETTO:-0800
TZNAME:PST
DTSTART:20251102T090000
END:STANDARD
BEGIN:DAYLIGHT
TZOFFSETFROM:-0800
TZOFFSETTO:-0700
TZNAME:PDT
DTSTART:20260308T100000
END:DAYLIGHT
BEGIN:STANDARD
TZOFFSETFROM:-0700
TZOFFSETTO:-0800
TZNAME:PST
DTSTART:20261101T090000
END:STANDARD
BEGIN:DAYLIGHT
TZOFFSETFROM:-0800
TZOFFSETTO:-0700
TZNAME:PDT
DTSTART:20270314T100000
END:DAYLIGHT
BEGIN:STANDARD
TZOFFSETFROM:-0700
TZOFFSETTO:-0800
TZNAME:PST
DTSTART:20271107T090000
END:STANDARD
END:VTIMEZONE
BEGIN:VEVENT
DTSTART;TZID=America/Vancouver:20260805T170000
DTEND;TZID=America/Vancouver:20260805T190000
DTSTAMP:20260420T050014
CREATED:20260409T003253Z
LAST-MODIFIED:20260409T003253Z
UID:30020877-1785949200-1785956400@fannybaycommunity.com
SUMMARY:August - Supper Social
DESCRIPTION:Join us for a Supper Social on the first Wednesday of every month.
URL:https://fannybaycommunity.com/event/august-supper-social/
LOCATION:FBCA Community Centre
CATEGORIES:Community Events
END:VEVENT
BEGIN:VEVENT
DTSTART;TZID=America/Vancouver:20260808T100000
DTEND;TZID=America/Vancouver:20260808T150000
DTSTAMP:20260420T050014
CREATED:20260316T200933Z
LAST-MODIFIED:20260316T201305Z
UID:30020866-1786183200-1786201200@fannybaycommunity.com
SUMMARY:Fanny Bay Summer Market
DESCRIPTION:Vendor Inquiries:\nfbsummermarket@gmail.com
URL:https://fannybaycommunity.com/event/fanny-bay-summer-market/
LOCATION:Hall & Grounds
CATEGORIES:Community Events
ATTACH;FMTTYPE=image/jpeg:https://fannybaycommunity.com/wp-content/uploads/FB-Summer-Market-2026.jpg
END:VEVENT
BEGIN:VEVENT
DTSTART;VALUE=DATE:20260829
DTEND;VALUE=DATE:20260830
DTSTAMP:20260420T050014
CREATED:20251202T070211Z
LAST-MODIFIED:20260131T002822Z
UID:30015167-1787961600-1788047999@fannybaycommunity.com
SUMMARY:Gigantic COMMUNITY Garage Sale
DESCRIPTION:This August we will have a GIGANTIC COMMUNITY GARAGE SALE. Not a Market for Crafters…strictly a venue for garage sale enthusiasts. The plan is that we will rent spaces in our hall and parking lot to anyone interested in having a table of their own items for sale. We will offer options such as tented spaces with ta-bles\, just tables and just spaces…whatever you wish. Cost of renting a space will be determined as we plan the event.\nAfter the sale\, you dispose of anything you don’t sell\, immediately! We are very optimistic about the plan and can’t wait to see how it works out! As usual\, the FBSS group will provide a Concession stand selling drinks\, hotdogs and hamburgers\, there will be a Bake Sale and an our usual Raffle. We will advertise\, promote and organize the event. This is still in the planning stages so stay tuned and mark your calendar for next August 29th and 30th\, 2026. We think it will be a sensational event! Get ready….\nplan for it! We will still pick up and collect special items from anyone wishing to donate to us for our very popular Boutique. \nVendor details and exact times coming soon.
URL:https://fannybaycommunity.com/event/gigantic-community-garage-sale/
LOCATION:Fanny Bay Seniors Hall (Little Hall)\, 418 Ships Point Road\, Fanny Bay\, BC\, V0R 1W0\, Canada
CATEGORIES:Community Events
END:VEVENT
BEGIN:VEVENT
DTSTART;VALUE=DATE:20260830
DTEND;VALUE=DATE:20260831
DTSTAMP:20260420T050014
CREATED:20260131T002140Z
LAST-MODIFIED:20260131T002948Z
UID:30019554-1788048000-1788134399@fannybaycommunity.com
SUMMARY:Gigantic COMMUNITY Garage Sale
DESCRIPTION:This August we will have a GIGANTIC COMMUNITY GARAGE SALE. Not a Market for Crafters…strictly a venue for garage sale enthusiasts. The plan is that we will rent spaces in our hall and parking lot to anyone interested in having a table of their own items for sale. We will offer options such as tented spaces with ta-bles\, just tables and just spaces…whatever you wish. Cost of renting a space will be determined as we plan the event.\nAfter the sale\, you dispose of anything you don’t sell\, immediately! We are very optimistic about the plan and can’t wait to see how it works out! As usual\, the FBSS group will provide a Concession stand selling drinks\, hotdogs and hamburgers\, there will be a Bake Sale and an our usual Raffle. We will advertise\, promote and organize the event. This is still in the planning stages so stay tuned and mark your calendar for next August 29th and 30th\, 2026. We think it will be a sensational event! Get ready….\nplan for it! We will still pick up and collect special items from anyone wishing to donate to us for our very popular Boutique. \nVendor details and exact times coming soon.
URL:https://fannybaycommunity.com/event/gigantic-community-garage-sale-2/
LOCATION:FBCA Community Centre
CATEGORIES:Community Events
END:VEVENT
END:VCALENDAR