BEGIN:VCALENDAR
VERSION:2.0
PRODID:-//Fanny Bay Community Association - ECPv6.15.20//NONSGML v1.0//EN
CALSCALE:GREGORIAN
METHOD:PUBLISH
X-ORIGINAL-URL:https://fannybaycommunity.com
X-WR-CALDESC:Events for Fanny Bay Community Association
REFRESH-INTERVAL;VALUE=DURATION:PT1H
X-Robots-Tag:noindex
X-PUBLISHED-TTL:PT1H
BEGIN:VTIMEZONE
TZID:America/Vancouver
BEGIN:DAYLIGHT
TZOFFSETFROM:-0800
TZOFFSETTO:-0700
TZNAME:PDT
DTSTART:20250309T100000
END:DAYLIGHT
BEGIN:STANDARD
TZOFFSETFROM:-0700
TZOFFSETTO:-0800
TZNAME:PST
DTSTART:20251102T090000
END:STANDARD
BEGIN:DAYLIGHT
TZOFFSETFROM:-0800
TZOFFSETTO:-0700
TZNAME:PDT
DTSTART:20260308T100000
END:DAYLIGHT
BEGIN:STANDARD
TZOFFSETFROM:-0700
TZOFFSETTO:-0800
TZNAME:PST
DTSTART:20261101T090000
END:STANDARD
BEGIN:DAYLIGHT
TZOFFSETFROM:-0800
TZOFFSETTO:-0700
TZNAME:PDT
DTSTART:20270314T100000
END:DAYLIGHT
BEGIN:STANDARD
TZOFFSETFROM:-0700
TZOFFSETTO:-0800
TZNAME:PST
DTSTART:20271107T090000
END:STANDARD
END:VTIMEZONE
BEGIN:VEVENT
DTSTART;TZID=America/Vancouver:20260506T130000
DTEND;TZID=America/Vancouver:20260506T150000
DTSTAMP:20260420T111129
CREATED:20251004T192110Z
LAST-MODIFIED:20260111T013804Z
UID:30014262-1778072400-1778079600@fannybaycommunity.com
SUMMARY:FBCA Music Club: Acoustic Jam
DESCRIPTION:
URL:https://fannybaycommunity.com/event/fbca-music-club/2026-05-06/
LOCATION:Dining Room
CATEGORIES:Activities
END:VEVENT
BEGIN:VEVENT
DTSTART;TZID=America/Vancouver:20260513T130000
DTEND;TZID=America/Vancouver:20260513T150000
DTSTAMP:20260420T111129
CREATED:20251004T192110Z
LAST-MODIFIED:20260111T013804Z
UID:30014263-1778677200-1778684400@fannybaycommunity.com
SUMMARY:FBCA Music Club: Acoustic Jam
DESCRIPTION:
URL:https://fannybaycommunity.com/event/fbca-music-club/2026-05-13/
LOCATION:Dining Room
CATEGORIES:Activities
END:VEVENT
BEGIN:VEVENT
DTSTART;TZID=America/Vancouver:20260520T130000
DTEND;TZID=America/Vancouver:20260520T150000
DTSTAMP:20260420T111129
CREATED:20251004T192110Z
LAST-MODIFIED:20260111T013804Z
UID:30014264-1779282000-1779289200@fannybaycommunity.com
SUMMARY:FBCA Music Club: Acoustic Jam
DESCRIPTION:
URL:https://fannybaycommunity.com/event/fbca-music-club/2026-05-20/
LOCATION:Dining Room
CATEGORIES:Activities
END:VEVENT
BEGIN:VEVENT
DTSTART;TZID=America/Vancouver:20260527T130000
DTEND;TZID=America/Vancouver:20260527T150000
DTSTAMP:20260420T111129
CREATED:20251004T192110Z
LAST-MODIFIED:20260111T013804Z
UID:30014265-1779886800-1779894000@fannybaycommunity.com
SUMMARY:FBCA Music Club: Acoustic Jam
DESCRIPTION:
URL:https://fannybaycommunity.com/event/fbca-music-club/2026-05-27/
LOCATION:Dining Room
CATEGORIES:Activities
END:VEVENT
END:VCALENDAR