BEGIN:VCALENDAR
VERSION:2.0
PRODID:-//Fanny Bay Community Association - ECPv6.15.20//NONSGML v1.0//EN
CALSCALE:GREGORIAN
METHOD:PUBLISH
X-WR-CALNAME:Fanny Bay Community Association
X-ORIGINAL-URL:https://fannybaycommunity.com
X-WR-CALDESC:Events for Fanny Bay Community Association
REFRESH-INTERVAL;VALUE=DURATION:PT1H
X-Robots-Tag:noindex
X-PUBLISHED-TTL:PT1H
BEGIN:VTIMEZONE
TZID:America/Vancouver
BEGIN:DAYLIGHT
TZOFFSETFROM:-0800
TZOFFSETTO:-0700
TZNAME:PDT
DTSTART:20250309T100000
END:DAYLIGHT
BEGIN:STANDARD
TZOFFSETFROM:-0700
TZOFFSETTO:-0800
TZNAME:PST
DTSTART:20251102T090000
END:STANDARD
BEGIN:DAYLIGHT
TZOFFSETFROM:-0800
TZOFFSETTO:-0700
TZNAME:PDT
DTSTART:20260308T100000
END:DAYLIGHT
BEGIN:STANDARD
TZOFFSETFROM:-0700
TZOFFSETTO:-0800
TZNAME:PST
DTSTART:20261101T090000
END:STANDARD
BEGIN:DAYLIGHT
TZOFFSETFROM:-0800
TZOFFSETTO:-0700
TZNAME:PDT
DTSTART:20270314T100000
END:DAYLIGHT
BEGIN:STANDARD
TZOFFSETFROM:-0700
TZOFFSETTO:-0800
TZNAME:PST
DTSTART:20271107T090000
END:STANDARD
END:VTIMEZONE
BEGIN:VEVENT
DTSTART;VALUE=DATE:20261127
DTEND;VALUE=DATE:20261130
DTSTAMP:20260419T134738
CREATED:20260130T015831Z
LAST-MODIFIED:20260130T015831Z
UID:30019551-1795737600-1795996799@fannybaycommunity.com
SUMMARY:Christmas Market
DESCRIPTION:
URL:https://fannybaycommunity.com/event/christmas-market/
CATEGORIES:Community Events
ORGANIZER;CN="FBCA":MAILTO:pickleball@fannybaycommunity.com
END:VEVENT
BEGIN:VEVENT
DTSTART;TZID=America/Vancouver:20261127T090000
DTEND;TZID=America/Vancouver:20261127T120000
DTSTAMP:20260419T134738
CREATED:20260205T015515Z
LAST-MODIFIED:20260409T014250Z
UID:30020350-1795770000-1795780800@fannybaycommunity.com
SUMMARY:Pickleball AM
DESCRIPTION:
URL:https://fannybaycommunity.com/event/pickleball-3/2026-11-27/
LOCATION:Main Hall
CATEGORIES:Pickleball
ORGANIZER;CN="FBCA":MAILTO:pickleball@fannybaycommunity.com
END:VEVENT
BEGIN:VEVENT
DTSTART;TZID=America/Vancouver:20261127T150000
DTEND;TZID=America/Vancouver:20261127T170000
DTSTAMP:20260419T134738
CREATED:20260205T014239Z
LAST-MODIFIED:20260409T022126Z
UID:30020047-1795791600-1795798800@fannybaycommunity.com
SUMMARY:Pickleball PM
DESCRIPTION:Waitlist
URL:https://fannybaycommunity.com/event/pickleball-2-2-2-2-2/2026-11-27/
LOCATION:Main Hall
CATEGORIES:Health and Fitness,Pickleball
ATTACH;FMTTYPE=image/jpeg:https://fannybaycommunity.com/wp-content/uploads/AdobeStock_454600796-scaled.jpeg
END:VEVENT
BEGIN:VEVENT
DTSTART;TZID=America/Vancouver:20261127T150000
DTEND;TZID=America/Vancouver:20261127T170000
DTSTAMP:20260419T134738
CREATED:20260205T015853Z
LAST-MODIFIED:20260409T014338Z
UID:30020597-1795791600-1795798800@fannybaycommunity.com
SUMMARY:Pickleball PM
DESCRIPTION:
URL:https://fannybaycommunity.com/event/pickleball-4/2026-11-27/
CATEGORIES:Pickleball
ORGANIZER;CN="FBCA":MAILTO:pickleball@fannybaycommunity.com
END:VEVENT
END:VCALENDAR