BEGIN:VCALENDAR
VERSION:2.0
PRODID:-//Fanny Bay Community Association - ECPv6.15.20//NONSGML v1.0//EN
CALSCALE:GREGORIAN
METHOD:PUBLISH
X-WR-CALNAME:Fanny Bay Community Association
X-ORIGINAL-URL:https://fannybaycommunity.com
X-WR-CALDESC:Events for Fanny Bay Community Association
REFRESH-INTERVAL;VALUE=DURATION:PT1H
X-Robots-Tag:noindex
X-PUBLISHED-TTL:PT1H
BEGIN:VTIMEZONE
TZID:America/Vancouver
BEGIN:DAYLIGHT
TZOFFSETFROM:-0800
TZOFFSETTO:-0700
TZNAME:PDT
DTSTART:20250309T100000
END:DAYLIGHT
BEGIN:STANDARD
TZOFFSETFROM:-0700
TZOFFSETTO:-0800
TZNAME:PST
DTSTART:20251102T090000
END:STANDARD
BEGIN:DAYLIGHT
TZOFFSETFROM:-0800
TZOFFSETTO:-0700
TZNAME:PDT
DTSTART:20260308T100000
END:DAYLIGHT
BEGIN:STANDARD
TZOFFSETFROM:-0700
TZOFFSETTO:-0800
TZNAME:PST
DTSTART:20261101T090000
END:STANDARD
BEGIN:DAYLIGHT
TZOFFSETFROM:-0800
TZOFFSETTO:-0700
TZNAME:PDT
DTSTART:20270314T100000
END:DAYLIGHT
BEGIN:STANDARD
TZOFFSETFROM:-0700
TZOFFSETTO:-0800
TZNAME:PST
DTSTART:20271107T090000
END:STANDARD
END:VTIMEZONE
BEGIN:VEVENT
DTSTART;TZID=America/Vancouver:20261104T130000
DTEND;TZID=America/Vancouver:20261104T150000
DTSTAMP:20260419T134612
CREATED:20251004T192110Z
LAST-MODIFIED:20260111T013804Z
UID:30014288-1793797200-1793804400@fannybaycommunity.com
SUMMARY:FBCA Music Club: Acoustic Jam
DESCRIPTION:
URL:https://fannybaycommunity.com/event/fbca-music-club/2026-11-04/
LOCATION:Dining Room
CATEGORIES:Activities
END:VEVENT
BEGIN:VEVENT
DTSTART;TZID=America/Vancouver:20261104T153000
DTEND;TZID=America/Vancouver:20261104T200000
DTSTAMP:20260419T134612
CREATED:20260409T155825Z
LAST-MODIFIED:20260409T160241Z
UID:30020905-1793806200-1793822400@fannybaycommunity.com
SUMMARY:Supper Social Prep
DESCRIPTION:
URL:https://fannybaycommunity.com/event/supper-social-prep/2026-11-04/
LOCATION:Kitchen\, Canada
CATEGORIES:Private Events
END:VEVENT
BEGIN:VEVENT
DTSTART;TZID=America/Vancouver:20261104T170000
DTEND;TZID=America/Vancouver:20261104T190000
DTSTAMP:20260419T134612
CREATED:20260409T003516Z
LAST-MODIFIED:20260409T003516Z
UID:30020880-1793811600-1793818800@fannybaycommunity.com
SUMMARY:November - Supper Social
DESCRIPTION:Join us for a Supper Social on the first Wednesday of every month.
URL:https://fannybaycommunity.com/event/november-supper-social/
LOCATION:FBCA Community Centre
CATEGORIES:Community Events
END:VEVENT
END:VCALENDAR