BEGIN:VCALENDAR
VERSION:2.0
PRODID:-//Fanny Bay Community Association - ECPv6.15.20//NONSGML v1.0//EN
CALSCALE:GREGORIAN
METHOD:PUBLISH
X-ORIGINAL-URL:https://fannybaycommunity.com
X-WR-CALDESC:Events for Fanny Bay Community Association
REFRESH-INTERVAL;VALUE=DURATION:PT1H
X-Robots-Tag:noindex
X-PUBLISHED-TTL:PT1H
BEGIN:VTIMEZONE
TZID:America/Vancouver
BEGIN:DAYLIGHT
TZOFFSETFROM:-0800
TZOFFSETTO:-0700
TZNAME:PDT
DTSTART:20250309T100000
END:DAYLIGHT
BEGIN:STANDARD
TZOFFSETFROM:-0700
TZOFFSETTO:-0800
TZNAME:PST
DTSTART:20251102T090000
END:STANDARD
BEGIN:DAYLIGHT
TZOFFSETFROM:-0800
TZOFFSETTO:-0700
TZNAME:PDT
DTSTART:20260308T100000
END:DAYLIGHT
BEGIN:STANDARD
TZOFFSETFROM:-0700
TZOFFSETTO:-0800
TZNAME:PST
DTSTART:20261101T090000
END:STANDARD
BEGIN:DAYLIGHT
TZOFFSETFROM:-0800
TZOFFSETTO:-0700
TZNAME:PDT
DTSTART:20270314T100000
END:DAYLIGHT
BEGIN:STANDARD
TZOFFSETFROM:-0700
TZOFFSETTO:-0800
TZNAME:PST
DTSTART:20271107T090000
END:STANDARD
END:VTIMEZONE
BEGIN:VEVENT
DTSTART;TZID=America/Vancouver:20261007T130000
DTEND;TZID=America/Vancouver:20261007T150000
DTSTAMP:20260419T120438
CREATED:20251004T192110Z
LAST-MODIFIED:20260111T013804Z
UID:30014284-1791378000-1791385200@fannybaycommunity.com
SUMMARY:FBCA Music Club: Acoustic Jam
DESCRIPTION:
URL:https://fannybaycommunity.com/event/fbca-music-club/2026-10-07/
LOCATION:Dining Room
CATEGORIES:Activities
END:VEVENT
BEGIN:VEVENT
DTSTART;TZID=America/Vancouver:20261007T153000
DTEND;TZID=America/Vancouver:20261007T200000
DTSTAMP:20260419T120438
CREATED:20260409T155825Z
LAST-MODIFIED:20260409T160241Z
UID:30020902-1791387000-1791403200@fannybaycommunity.com
SUMMARY:Supper Social Prep
DESCRIPTION:
URL:https://fannybaycommunity.com/event/supper-social-prep/2026-10-07/
LOCATION:Kitchen\, Canada
CATEGORIES:Private Events
END:VEVENT
BEGIN:VEVENT
DTSTART;TZID=America/Vancouver:20261007T170000
DTEND;TZID=America/Vancouver:20261007T190000
DTSTAMP:20260419T120438
CREATED:20260409T003429Z
LAST-MODIFIED:20260409T003429Z
UID:30020879-1791392400-1791399600@fannybaycommunity.com
SUMMARY:October - Supper Social
DESCRIPTION:Join us for a Supper Social on the first Wednesday of every month.
URL:https://fannybaycommunity.com/event/october-supper-social/
LOCATION:FBCA Community Centre
CATEGORIES:Community Events
END:VEVENT
END:VCALENDAR