BEGIN:VCALENDAR
VERSION:2.0
PRODID:-//Fanny Bay Community Association - ECPv6.15.20//NONSGML v1.0//EN
CALSCALE:GREGORIAN
METHOD:PUBLISH
X-ORIGINAL-URL:https://fannybaycommunity.com
X-WR-CALDESC:Events for Fanny Bay Community Association
REFRESH-INTERVAL;VALUE=DURATION:PT1H
X-Robots-Tag:noindex
X-PUBLISHED-TTL:PT1H
BEGIN:VTIMEZONE
TZID:America/Vancouver
BEGIN:DAYLIGHT
TZOFFSETFROM:-0800
TZOFFSETTO:-0700
TZNAME:PDT
DTSTART:20250309T100000
END:DAYLIGHT
BEGIN:STANDARD
TZOFFSETFROM:-0700
TZOFFSETTO:-0800
TZNAME:PST
DTSTART:20251102T090000
END:STANDARD
BEGIN:DAYLIGHT
TZOFFSETFROM:-0800
TZOFFSETTO:-0700
TZNAME:PDT
DTSTART:20260308T100000
END:DAYLIGHT
BEGIN:STANDARD
TZOFFSETFROM:-0700
TZOFFSETTO:-0800
TZNAME:PST
DTSTART:20261101T090000
END:STANDARD
BEGIN:DAYLIGHT
TZOFFSETFROM:-0800
TZOFFSETTO:-0700
TZNAME:PDT
DTSTART:20270314T100000
END:DAYLIGHT
BEGIN:STANDARD
TZOFFSETFROM:-0700
TZOFFSETTO:-0800
TZNAME:PST
DTSTART:20271107T090000
END:STANDARD
END:VTIMEZONE
BEGIN:VEVENT
DTSTART;TZID=America/Vancouver:20260507T090000
DTEND;TZID=America/Vancouver:20260507T100000
DTSTAMP:20260421T011126
CREATED:20260311T171528Z
LAST-MODIFIED:20260311T171528Z
UID:30015587-1778144400-1778148000@fannybaycommunity.com
SUMMARY:Aerobics
DESCRIPTION:Details on the Programs and Activities page.
URL:https://fannybaycommunity.com/event/aerobics-2-2/2026-05-07/
LOCATION:Main Hall
CATEGORIES:Health and Fitness
END:VEVENT
BEGIN:VEVENT
DTSTART;TZID=America/Vancouver:20260507T103000
DTEND;TZID=America/Vancouver:20260507T123000
DTSTAMP:20260421T011126
CREATED:20250219T071725Z
LAST-MODIFIED:20250219T071726Z
UID:30013942-1778149800-1778157000@fannybaycommunity.com
SUMMARY:Pickleball AM
DESCRIPTION:Waitlist
URL:https://fannybaycommunity.com/event/pickleball-am-2-2/2026-05-07/
LOCATION:Main Hall
CATEGORIES:Health and Fitness,Pickleball
ATTACH;FMTTYPE=image/jpeg:https://fannybaycommunity.com/wp-content/uploads/AdobeStock_454600796-scaled.jpeg
END:VEVENT
BEGIN:VEVENT
DTSTART;TZID=America/Vancouver:20260507T130000
DTEND;TZID=America/Vancouver:20260507T143000
DTSTAMP:20260421T011126
CREATED:20260314T204753Z
LAST-MODIFIED:20260314T205111Z
UID:30020861-1778158800-1778164200@fannybaycommunity.com
SUMMARY:Resonation Song Circle
DESCRIPTION:
URL:https://fannybaycommunity.com/event/resonation-song-circle/2026-05-07/
LOCATION:FBCA Community Centre
CATEGORIES:Community Events
END:VEVENT
BEGIN:VEVENT
DTSTART;TZID=America/Vancouver:20260507T173000
DTEND;TZID=America/Vancouver:20260507T183000
DTSTAMP:20260421T011126
CREATED:20260407T185629Z
LAST-MODIFIED:20260407T185629Z
UID:30019596-1778175000-1778178600@fannybaycommunity.com
SUMMARY:Cross Training with Megan
DESCRIPTION:
URL:https://fannybaycommunity.com/event/cross-training-with-megan-3-2/2026-05-07/
LOCATION:Studio
CATEGORIES:Health and Fitness
ORGANIZER;CN="Megan":MAILTO:meg_louisea@yahoo.com
END:VEVENT
BEGIN:VEVENT
DTSTART;TZID=America/Vancouver:20260507T180000
DTEND;TZID=America/Vancouver:20260507T200000
DTSTAMP:20260421T011126
CREATED:20260419T155918Z
LAST-MODIFIED:20260419T160620Z
UID:30020920-1778176800-1778184000@fannybaycommunity.com
SUMMARY:Craft Night
DESCRIPTION:Resin-Ocean Themed on Canvas \n$50 each \nHello@TheOriginalCraftNight.ca
URL:https://fannybaycommunity.com/event/craft-night/
LOCATION:FBCA Community Centre
CATEGORIES:Community Events
ATTACH;FMTTYPE=image/png:https://fannybaycommunity.com/wp-content/uploads/Fanny-Bays-Resin-Ocean-2026-04-8.5-x-11-in-1.png
ORGANIZER;CN="FBCA":MAILTO:pickleball@fannybaycommunity.com
END:VEVENT
BEGIN:VEVENT
DTSTART;TZID=America/Vancouver:20260507T184000
DTEND;TZID=America/Vancouver:20260507T193000
DTSTAMP:20260421T011126
CREATED:20260407T185426Z
LAST-MODIFIED:20260407T185428Z
UID:30019631-1778179200-1778182200@fannybaycommunity.com
SUMMARY:Cross Training with Megan
DESCRIPTION:
URL:https://fannybaycommunity.com/event/cross-training-with-megan-4-2/2026-05-07/
LOCATION:Studio
CATEGORIES:Health and Fitness
ORGANIZER;CN="Megan":MAILTO:meg_louisea@yahoo.com
END:VEVENT
END:VCALENDAR